BEGIN:VCALENDAR
VERSION:2.0
PRODID:-//Heartwood Life - ECPv6.15.20//NONSGML v1.0//EN
CALSCALE:GREGORIAN
METHOD:PUBLISH
X-WR-CALNAME:Heartwood Life
X-ORIGINAL-URL:https://heartwoodlife.com
X-WR-CALDESC:Events for Heartwood Life
REFRESH-INTERVAL;VALUE=DURATION:PT1H
X-Robots-Tag:noindex
X-PUBLISHED-TTL:PT1H
BEGIN:VTIMEZONE
TZID:America/New_York
BEGIN:DAYLIGHT
TZOFFSETFROM:-0500
TZOFFSETTO:-0400
TZNAME:EDT
DTSTART:20240310T070000
END:DAYLIGHT
BEGIN:STANDARD
TZOFFSETFROM:-0400
TZOFFSETTO:-0500
TZNAME:EST
DTSTART:20241103T060000
END:STANDARD
BEGIN:DAYLIGHT
TZOFFSETFROM:-0500
TZOFFSETTO:-0400
TZNAME:EDT
DTSTART:20250309T070000
END:DAYLIGHT
BEGIN:STANDARD
TZOFFSETFROM:-0400
TZOFFSETTO:-0500
TZNAME:EST
DTSTART:20251102T060000
END:STANDARD
BEGIN:DAYLIGHT
TZOFFSETFROM:-0500
TZOFFSETTO:-0400
TZNAME:EDT
DTSTART:20260308T070000
END:DAYLIGHT
BEGIN:STANDARD
TZOFFSETFROM:-0400
TZOFFSETTO:-0500
TZNAME:EST
DTSTART:20261101T060000
END:STANDARD
END:VTIMEZONE
BEGIN:VEVENT
DTSTART;TZID=America/New_York:20250106T183000
DTEND;TZID=America/New_York:20250106T191500
DTSTAMP:20260421T124905
CREATED:20250115T232741Z
LAST-MODIFIED:20250115T232741Z
UID:10000343-1736188200-1736190900@heartwoodlife.com
SUMMARY:Flow Yoga
DESCRIPTION:Called “Flow” Yoga as the poses blend in practice\, a more dynamic style of class for students looking to grow their practice\, synchronized with breath\, creating your anchor as you move from pose to pose. Excellent for your health\, not only keeping you active\, but also reducing stress and building strength outward and inward. Mairi includes a Warm up\, Sun Salutations\, stretching and balancing as a part of every class. Inner reflection and relaxation are used to close class. \nFor pricing and registration\, download the Bē Health App. \n1. Download the app to register: https://www.sjchs.org/be-health-and-well-being/be-health-app \n 
URL:https://heartwoodlife.com/event/flow-yoga-21/
LOCATION:The Fitness Room at The Outfitters\, 35 Outfitters Park Drive\, Richmond Hill\, GA\, 31324\, United States
CATEGORIES:Bē Health,Fitness
ATTACH;FMTTYPE=image/png:https://heartwoodlife.com/wp-content/uploads/2025/01/Yoga.png
ORGANIZER;CN="B%C4%93 Health %E2%80%A2 St. Joseph's / Candler":MAILTO:behealth@sjchs.org
END:VEVENT
BEGIN:VEVENT
DTSTART;TZID=America/New_York:20250109T120000
DTEND;TZID=America/New_York:20250109T133000
DTSTAMP:20260421T124905
CREATED:20250115T233049Z
LAST-MODIFIED:20250115T233049Z
UID:10000344-1736424000-1736429400@heartwoodlife.com
SUMMARY:Hike The Hill
DESCRIPTION:Be ready to move! The Be Health Navigator will incorporate stretching and other exercises into this 2 mile hike to the hill to enhance your overall physical\, emotional and social well-being. Designed for all fitness levels\, just meet the Be Health navigator at the Outfitters Building for this group activity on the St. Joseph’s/ Candler walking trail. \nFor pricing and registration\, download the Bē Health App. \n1. Download the app to register: https://www.sjchs.org/be-health-and-well-being/be-health-app
URL:https://heartwoodlife.com/event/hike-the-hill-13/
LOCATION:The Outfitters\, 35 Outfitters Park Drive\, Richmond Hill\, GA\, United States
CATEGORIES:Bē Health,Fitness,Public Events
ATTACH;FMTTYPE=image/png:https://heartwoodlife.com/wp-content/uploads/2025/01/Hike-the-Hill-cmyk.png
ORGANIZER;CN="B%C4%93 Health %E2%80%A2 St. Joseph's / Candler":MAILTO:behealth@sjchs.org
END:VEVENT
BEGIN:VEVENT
DTSTART;TZID=America/New_York:20250113T183000
DTEND;TZID=America/New_York:20250113T191500
DTSTAMP:20260421T124905
CREATED:20250113T170726Z
LAST-MODIFIED:20250113T173222Z
UID:10000325-1736793000-1736795700@heartwoodlife.com
SUMMARY:Flow Yoga
DESCRIPTION:Called “Flow” Yoga as the poses blend in practice\, a more dynamic style of class for students looking to grow their practice\, synchronized with breath\, creating your anchor as you move from pose to pose. Excellent for your health\, not only keeping you active\, but also reducing stress and building strength outward and inward. Mairi includes a Warm up\, Sun Salutations\, stretching and balancing as a part of every class. Inner reflection and relaxation are used to close class. \nFor pricing and registration\, download the Bē Health App. \n1. Download the app to register: https://www.sjchs.org/be-health-and-well-being/be-health-app \n 
URL:https://heartwoodlife.com/event/flow-yoga-18/
LOCATION:GA
CATEGORIES:Bē Health,Fitness
ATTACH;FMTTYPE=image/png:https://heartwoodlife.com/wp-content/uploads/2025/01/Yoga.png
ORGANIZER;CN="B%C4%93 Health %E2%80%A2 St. Joseph's / Candler":MAILTO:behealth@sjchs.org
END:VEVENT
BEGIN:VEVENT
DTSTART;TZID=America/New_York:20250116T120000
DTEND;TZID=America/New_York:20250116T133000
DTSTAMP:20260421T124905
CREATED:20250113T203148Z
LAST-MODIFIED:20250113T203148Z
UID:10000328-1737028800-1737034200@heartwoodlife.com
SUMMARY:Hike The Hill
DESCRIPTION:Be ready to move! The Be Health Navigator will incorporate stretching and other exercises into this 2 mile hike to the hill to enhance your overall physical\, emotional and social well-being. Designed for all fitness levels\, just meet the Be Health navigator at the Outfitters Building for this group activity on the St. Joseph’s/ Candler walking trail. \nFor pricing and registration\, download the Bē Health App. \n1. Download the app to register: https://www.sjchs.org/be-health-and-well-being/be-health-app
URL:https://heartwoodlife.com/event/hike-the-hill-10/
LOCATION:The Outfitters\, 35 Outfitters Park Drive\, Richmond Hill\, GA\, United States
CATEGORIES:Bē Health,Fitness,Public Events
ATTACH;FMTTYPE=image/png:https://heartwoodlife.com/wp-content/uploads/2025/01/Hike-the-Hill-cmyk.png
ORGANIZER;CN="B%C4%93 Health %E2%80%A2 St. Joseph's / Candler":MAILTO:behealth@sjchs.org
END:VEVENT
BEGIN:VEVENT
DTSTART;TZID=America/New_York:20250117T100000
DTEND;TZID=America/New_York:20250117T110000
DTSTAMP:20260421T124905
CREATED:20250113T204106Z
LAST-MODIFIED:20250113T204106Z
UID:10000331-1737108000-1737111600@heartwoodlife.com
SUMMARY:Children's Yoga
DESCRIPTION:Children’s Yoga: We make yoga and mindfulness fun for kids! It’s filled with games\, songs\, stories\, imaginative play and activities that engage children and give them the tools to feel calmer\, happier and more peaceful inside! Offered every Friday at 10 a.m. at the SJ/C Heartwood Campus. \nFor pricing and registration\, download the Bē Health App. \n1. Download the app to register: https://www.sjchs.org/be-health-and-well-being/be-health-app
URL:https://heartwoodlife.com/event/childrens-yoga-6/
LOCATION:St. Joseph’s/Candler Facility\, 3866 Belfast Keller Rd\, Richmond Hill\, GA\, 31324\, United States
CATEGORIES:Bē Health,Fitness
ATTACH;FMTTYPE=image/png:https://heartwoodlife.com/wp-content/uploads/2025/01/Yoga.png
ORGANIZER;CN="B%C4%93 Health %E2%80%A2 St. Joseph's / Candler":MAILTO:behealth@sjchs.org
END:VEVENT
BEGIN:VEVENT
DTSTART;TZID=America/New_York:20250117T120000
DTEND;TZID=America/New_York:20250117T130000
DTSTAMP:20260421T124905
CREATED:20250113T204543Z
LAST-MODIFIED:20250113T204543Z
UID:10000332-1737115200-1737118800@heartwoodlife.com
SUMMARY:Silver Sneakers Yoga
DESCRIPTION:Silver Sneakers Yoga: Silver Sneakers Yoga is great for a beginner or more experience exerciser interested in Yoga and flexibility training. You will move through seated and standing yoga poses that aim to increase flexibility\, balance and range of motion. Breathing exercises and relaxation is incorporated into every class to promote stress reduction. A chair is used to accommodate a variety of fitness and skill levels during this class. Offered every Friday at noon at the SJ/C Heartwood Campus.\n\nFor pricing and registration\, download the Bē Health App. \n1. Download the app to register: https://www.sjchs.org/be-health-and-well-being/be-health-app
URL:https://heartwoodlife.com/event/silver-sneakers-yoga/
LOCATION:St. Joseph’s/Candler Facility\, 3866 Belfast Keller Rd\, Richmond Hill\, GA\, 31324\, United States
CATEGORIES:Bē Health,Fitness
ATTACH;FMTTYPE=image/png:https://heartwoodlife.com/wp-content/uploads/2025/01/Yoga.png
ORGANIZER;CN="B%C4%93 Health %E2%80%A2 St. Joseph's / Candler":MAILTO:behealth@sjchs.org
END:VEVENT
BEGIN:VEVENT
DTSTART;TZID=America/New_York:20250120T183000
DTEND;TZID=America/New_York:20250120T191500
DTSTAMP:20260421T124905
CREATED:20250113T201910Z
LAST-MODIFIED:20250113T201910Z
UID:10000326-1737397800-1737400500@heartwoodlife.com
SUMMARY:Flow Yoga
DESCRIPTION:Called “Flow” Yoga as the poses blend in practice\, a more dynamic style of class for students looking to grow their practice\, synchronized with breath\, creating your anchor as you move from pose to pose. Excellent for your health\, not only keeping you active\, but also reducing stress and building strength outward and inward. Mairi includes a Warm up\, Sun Salutations\, stretching and balancing as a part of every class. Inner reflection and relaxation are used to close class. \nFor pricing and registration\, download the Bē Health App. \n1. Download the app to register: https://www.sjchs.org/be-health-and-well-being/be-health-app \n 
URL:https://heartwoodlife.com/event/flow-yoga-19/
LOCATION:GA
CATEGORIES:Bē Health,Fitness
ATTACH;FMTTYPE=image/png:https://heartwoodlife.com/wp-content/uploads/2025/01/Yoga.png
ORGANIZER;CN="B%C4%93 Health %E2%80%A2 St. Joseph's / Candler":MAILTO:behealth@sjchs.org
END:VEVENT
BEGIN:VEVENT
DTSTART;TZID=America/New_York:20250122T070000
DTEND;TZID=America/New_York:20250122T091500
DTSTAMP:20260421T124905
CREATED:20250114T170629Z
LAST-MODIFIED:20250121T185315Z
UID:10000337-1737529200-1737537300@heartwoodlife.com
SUMMARY:Bē Health Annual Health Screenings
DESCRIPTION:DUE TO INCLEMENT WEATHER THIS EVENT HAS BEEN POSTPONED UNTIL MARCH 18TH. \nExclusive for Heartwood Residents. \nComplimentary yearly health screening. These comprehensive screenings include testing to identify those at high risk for Heart Disease\, Prediabetes\, Diabetes\, Hypertension\, Hyperlipidemia\, and Obesity. Testing includes a fasting finger stick lipid panel\, hemoglobin\, A1C\, height\, weight\, BMI\, and blood pressure check. Screenings are only for residents 18 years of age or older and are provided once each year. \nPlease reach out to the health navigator at behealth@sjchs.org with any questions or to acquire the Community Code.
URL:https://heartwoodlife.com/event/be-health-annual-health-screenings/
LOCATION:St. Joseph’s/Candler Facility\, 3866 Belfast Keller Rd\, Richmond Hill\, GA\, 31324\, United States
CATEGORIES:Bē Health,Fitness
ATTACH;FMTTYPE=image/png:https://heartwoodlife.com/wp-content/uploads/2025/01/SJC_BEHeatlh_horiz.png
ORGANIZER;CN="B%C4%93 Health %E2%80%A2 St. Joseph's / Candler":MAILTO:behealth@sjchs.org
END:VEVENT
BEGIN:VEVENT
DTSTART;TZID=America/New_York:20250123T120000
DTEND;TZID=America/New_York:20250123T133000
DTSTAMP:20260421T124905
CREATED:20250113T203246Z
LAST-MODIFIED:20250122T213623Z
UID:10000329-1737633600-1737639000@heartwoodlife.com
SUMMARY:Hike The Hill
DESCRIPTION:DUE TO INCLEMENT WEATHER THIS EVENT HAS BEEN POSTPONED. HIKE THE HILL WILL RESUME ON 1/30/2025. \nBe ready to move! The Be Health Navigator will incorporate stretching and other exercises into this 2 mile hike to the hill to enhance your overall physical\, emotional and social well-being. Designed for all fitness levels\, just meet the Be Health navigator at the Outfitters Building for this group activity on the St. Joseph’s/ Candler walking trail. \nFor pricing and registration\, download the Bē Health App. \n1. Download the app to register: https://www.sjchs.org/be-health-and-well-being/be-health-app
URL:https://heartwoodlife.com/event/hike-the-hill-11/
LOCATION:The Outfitters\, 35 Outfitters Park Drive\, Richmond Hill\, GA\, United States
CATEGORIES:Bē Health,Fitness,Public Events
ATTACH;FMTTYPE=image/png:https://heartwoodlife.com/wp-content/uploads/2025/01/Hike-the-Hill-cmyk.png
ORGANIZER;CN="B%C4%93 Health %E2%80%A2 St. Joseph's / Candler":MAILTO:behealth@sjchs.org
END:VEVENT
BEGIN:VEVENT
DTSTART;TZID=America/New_York:20250124T100000
DTEND;TZID=America/New_York:20250124T110000
DTSTAMP:20260421T124905
CREATED:20250113T210217Z
LAST-MODIFIED:20250113T210217Z
UID:10000335-1737712800-1737716400@heartwoodlife.com
SUMMARY:Children's Yoga
DESCRIPTION:Children’s Yoga: We make yoga and mindfulness fun for kids! It’s filled with games\, songs\, stories\, imaginative play and activities that engage children and give them the tools to feel calmer\, happier and more peaceful inside! Offered every Friday at 10 a.m. at the SJ/C Heartwood Campus. \nFor pricing and registration\, download the Bē Health App. \n1. Download the app to register: https://www.sjchs.org/be-health-and-well-being/be-health-app
URL:https://heartwoodlife.com/event/childrens-yoga-8/
LOCATION:St. Joseph’s/Candler Facility\, 3866 Belfast Keller Rd\, Richmond Hill\, GA\, 31324\, United States
CATEGORIES:Bē Health,Fitness
ATTACH;FMTTYPE=image/png:https://heartwoodlife.com/wp-content/uploads/2025/01/Yoga.png
ORGANIZER;CN="B%C4%93 Health %E2%80%A2 St. Joseph's / Candler":MAILTO:behealth@sjchs.org
END:VEVENT
BEGIN:VEVENT
DTSTART;TZID=America/New_York:20250124T120000
DTEND;TZID=America/New_York:20250124T130000
DTSTAMP:20260421T124905
CREATED:20250113T205503Z
LAST-MODIFIED:20250113T205503Z
UID:10000333-1737720000-1737723600@heartwoodlife.com
SUMMARY:Silver Sneakers Yoga
DESCRIPTION:Silver Sneakers Yoga: Silver Sneakers Yoga is great for a beginner or more experience exerciser interested in Yoga and flexibility training. You will move through seated and standing yoga poses that aim to increase flexibility\, balance and range of motion. Breathing exercises and relaxation is incorporated into every class to promote stress reduction. A chair is used to accommodate a variety of fitness and skill levels during this class. Offered every Friday at noon at the SJ/C Heartwood Campus.\n\nFor pricing and registration\, download the Bē Health App. \n1. Download the app to register: https://www.sjchs.org/be-health-and-well-being/be-health-app
URL:https://heartwoodlife.com/event/silver-sneakers-yoga-2/
LOCATION:St. Joseph’s/Candler Facility\, 3866 Belfast Keller Rd\, Richmond Hill\, GA\, 31324\, United States
CATEGORIES:Bē Health,Fitness
ATTACH;FMTTYPE=image/png:https://heartwoodlife.com/wp-content/uploads/2025/01/Yoga.png
ORGANIZER;CN="B%C4%93 Health %E2%80%A2 St. Joseph's / Candler":MAILTO:behealth@sjchs.org
END:VEVENT
BEGIN:VEVENT
DTSTART;TZID=America/New_York:20250127T183000
DTEND;TZID=America/New_York:20250127T191500
DTSTAMP:20260421T124905
CREATED:20250113T202049Z
LAST-MODIFIED:20250127T195544Z
UID:10000327-1738002600-1738005300@heartwoodlife.com
SUMMARY:Flow Yoga
DESCRIPTION:POSTPONED. \nCalled “Flow” Yoga as the poses blend in practice\, a more dynamic style of class for students looking to grow their practice\, synchronized with breath\, creating your anchor as you move from pose to pose. Excellent for your health\, not only keeping you active\, but also reducing stress and building strength outward and inward. Mairi includes a Warm up\, Sun Salutations\, stretching and balancing as a part of every class. Inner reflection and relaxation are used to close class. \nFor pricing and registration\, download the Bē Health App. \n1. Download the app to register: https://www.sjchs.org/be-health-and-well-being/be-health-app \n 
URL:https://heartwoodlife.com/event/flow-yoga-20/
LOCATION:The Fitness Room at The Outfitters\, 35 Outfitters Park Drive\, Richmond Hill\, GA\, 31324\, United States
CATEGORIES:Bē Health,Fitness
ATTACH;FMTTYPE=image/png:https://heartwoodlife.com/wp-content/uploads/2025/01/Yoga.png
ORGANIZER;CN="B%C4%93 Health %E2%80%A2 St. Joseph's / Candler":MAILTO:behealth@sjchs.org
END:VEVENT
BEGIN:VEVENT
DTSTART;TZID=America/New_York:20250130T120000
DTEND;TZID=America/New_York:20250130T133000
DTSTAMP:20260421T124905
CREATED:20250113T203405Z
LAST-MODIFIED:20250113T203405Z
UID:10000330-1738238400-1738243800@heartwoodlife.com
SUMMARY:Hike The Hill
DESCRIPTION:Be ready to move! The Be Health Navigator will incorporate stretching and other exercises into this 2 mile hike to the hill to enhance your overall physical\, emotional and social well-being. Designed for all fitness levels\, just meet the Be Health navigator at the Outfitters Building for this group activity on the St. Joseph’s/ Candler walking trail. \nFor pricing and registration\, download the Bē Health App. \n1. Download the app to register: https://www.sjchs.org/be-health-and-well-being/be-health-app
URL:https://heartwoodlife.com/event/hike-the-hill-12/
LOCATION:The Outfitters\, 35 Outfitters Park Drive\, Richmond Hill\, GA\, United States
CATEGORIES:Bē Health,Fitness,Public Events
ATTACH;FMTTYPE=image/png:https://heartwoodlife.com/wp-content/uploads/2025/01/Hike-the-Hill-cmyk.png
ORGANIZER;CN="B%C4%93 Health %E2%80%A2 St. Joseph's / Candler":MAILTO:behealth@sjchs.org
END:VEVENT
BEGIN:VEVENT
DTSTART;TZID=America/New_York:20250131T100000
DTEND;TZID=America/New_York:20250131T110000
DTSTAMP:20260421T124905
CREATED:20250113T205907Z
LAST-MODIFIED:20250113T205907Z
UID:10000334-1738317600-1738321200@heartwoodlife.com
SUMMARY:Children's Yoga
DESCRIPTION:Children’s Yoga: We make yoga and mindfulness fun for kids! It’s filled with games\, songs\, stories\, imaginative play and activities that engage children and give them the tools to feel calmer\, happier and more peaceful inside! Offered every Friday at 10 a.m. at the SJ/C Heartwood Campus. \nFor pricing and registration\, download the Bē Health App. \n1. Download the app to register: https://www.sjchs.org/be-health-and-well-being/be-health-app
URL:https://heartwoodlife.com/event/childrens-yoga-7/
LOCATION:St. Joseph’s/Candler Facility\, 3866 Belfast Keller Rd\, Richmond Hill\, GA\, 31324\, United States
CATEGORIES:Bē Health,Fitness
ATTACH;FMTTYPE=image/png:https://heartwoodlife.com/wp-content/uploads/2025/01/Yoga.png
ORGANIZER;CN="B%C4%93 Health %E2%80%A2 St. Joseph's / Candler":MAILTO:behealth@sjchs.org
END:VEVENT
BEGIN:VEVENT
DTSTART;TZID=America/New_York:20250131T120000
DTEND;TZID=America/New_York:20250131T130000
DTSTAMP:20260421T124905
CREATED:20250113T210525Z
LAST-MODIFIED:20250113T210525Z
UID:10000336-1738324800-1738328400@heartwoodlife.com
SUMMARY:Silver Sneakers Yoga
DESCRIPTION:Silver Sneakers Yoga: Silver Sneakers Yoga is great for a beginner or more experience exerciser interested in Yoga and flexibility training. You will move through seated and standing yoga poses that aim to increase flexibility\, balance and range of motion. Breathing exercises and relaxation is incorporated into every class to promote stress reduction. A chair is used to accommodate a variety of fitness and skill levels during this class. Offered every Friday at noon at the SJ/C Heartwood Campus.\n\nFor pricing and registration\, download the Bē Health App. \n1. Download the app to register: https://www.sjchs.org/be-health-and-well-being/be-health-app
URL:https://heartwoodlife.com/event/silver-sneakers-yoga-3/
LOCATION:St. Joseph’s/Candler Facility\, 3866 Belfast Keller Rd\, Richmond Hill\, GA\, 31324\, United States
CATEGORIES:Bē Health,Fitness
ATTACH;FMTTYPE=image/png:https://heartwoodlife.com/wp-content/uploads/2025/01/Yoga.png
ORGANIZER;CN="B%C4%93 Health %E2%80%A2 St. Joseph's / Candler":MAILTO:behealth@sjchs.org
END:VEVENT
END:VCALENDAR