BEGIN:VCALENDAR
VERSION:2.0
PRODID:-//Heartwood Life - ECPv6.15.20//NONSGML v1.0//EN
CALSCALE:GREGORIAN
METHOD:PUBLISH
X-WR-CALNAME:Heartwood Life
X-ORIGINAL-URL:https://heartwoodlife.com
X-WR-CALDESC:Events for Heartwood Life
REFRESH-INTERVAL;VALUE=DURATION:PT1H
X-Robots-Tag:noindex
X-PUBLISHED-TTL:PT1H
BEGIN:VTIMEZONE
TZID:America/New_York
BEGIN:DAYLIGHT
TZOFFSETFROM:-0500
TZOFFSETTO:-0400
TZNAME:EDT
DTSTART:20230312T070000
END:DAYLIGHT
BEGIN:STANDARD
TZOFFSETFROM:-0400
TZOFFSETTO:-0500
TZNAME:EST
DTSTART:20231105T060000
END:STANDARD
BEGIN:DAYLIGHT
TZOFFSETFROM:-0500
TZOFFSETTO:-0400
TZNAME:EDT
DTSTART:20240310T070000
END:DAYLIGHT
BEGIN:STANDARD
TZOFFSETFROM:-0400
TZOFFSETTO:-0500
TZNAME:EST
DTSTART:20241103T060000
END:STANDARD
BEGIN:DAYLIGHT
TZOFFSETFROM:-0500
TZOFFSETTO:-0400
TZNAME:EDT
DTSTART:20250309T070000
END:DAYLIGHT
BEGIN:STANDARD
TZOFFSETFROM:-0400
TZOFFSETTO:-0500
TZNAME:EST
DTSTART:20251102T060000
END:STANDARD
END:VTIMEZONE
BEGIN:VEVENT
DTSTART;TZID=America/New_York:20240308T091500
DTEND;TZID=America/New_York:20240308T100000
DTSTAMP:20260419T170117
CREATED:20240118T203405Z
LAST-MODIFIED:20240408T154140Z
UID:10000032-1709889300-1709892000@heartwoodlife.com
SUMMARY:"Flow" Yoga
DESCRIPTION:Called “Flow” Yoga because the poses blend in practice. A more dynamic style of class for students looking to grow their practice\, synchronized with breathing\, creating your anchor as you move from pose to pose. Excellent for your health\, not only in keeping you active\, but also in reducing stress and building strength both inward and outward. Warm up\, Sun Salutations\, stretching and balancing are part of each class. Inner reflections and relaxation are used to close the class. \nFor pricing and registration\, download the Bē Health App. \n1. Download the app to register: https://www.sjchs.org/be-health-and-well-being/be-health-app\n2. SJC Health questionnaire and waiver: https://www.sjchs.org/be-health…/be-health-questionnaire/
URL:https://heartwoodlife.com/event/flow-yoga-2/
LOCATION:The Fitness Room at The Outfitters\, 35 Outfitters Park Drive\, Richmond Hill\, GA\, 31324\, United States
CATEGORIES:Bē Health,Fitness
ORGANIZER;CN="B%C4%93 Health %E2%80%A2 St. Joseph's / Candler":MAILTO:behealth@sjchs.org
END:VEVENT
BEGIN:VEVENT
DTSTART;TZID=America/New_York:20240308T080000
DTEND;TZID=America/New_York:20240308T140000
DTSTAMP:20260419T170117
CREATED:20240202T212607Z
LAST-MODIFIED:20240205T164534Z
UID:10000089-1709884800-1709906400@heartwoodlife.com
SUMMARY:Bleu Coat Kitchen Open Today 8am-2pm
DESCRIPTION:
URL:https://heartwoodlife.com/event/bleu-coat-kitchen-open-today-8am-3pm-22/
LOCATION:The Outfitters\, 35 Outfitters Park Drive\, Richmond Hill\, GA\, United States
CATEGORIES:Public Events
ATTACH;FMTTYPE=image/jpeg:https://heartwoodlife.com/wp-content/uploads/2024/01/BCK-Logo.jpg
END:VEVENT
BEGIN:VEVENT
DTSTART;VALUE=DATE:20240308
DTEND;VALUE=DATE:20240309
DTSTAMP:20260419T170117
CREATED:20240125T194048Z
LAST-MODIFIED:20240125T194845Z
UID:10000051-1709856000-1709942399@heartwoodlife.com
SUMMARY:Private Event
DESCRIPTION:Private Event
URL:https://heartwoodlife.com/event/private-event-3/
LOCATION:The Outfitters\, 35 Outfitters Park Drive\, Richmond Hill\, GA\, United States
CATEGORIES:Private Events
END:VEVENT
BEGIN:VEVENT
DTSTART;TZID=America/New_York:20240307T080000
DTEND;TZID=America/New_York:20240307T140000
DTSTAMP:20260419T170117
CREATED:20240202T212504Z
LAST-MODIFIED:20240205T164515Z
UID:10000088-1709798400-1709820000@heartwoodlife.com
SUMMARY:Bleu Coat Kitchen Open Today 8am-2pm
DESCRIPTION:
URL:https://heartwoodlife.com/event/bleu-coat-kitchen-open-today-8am-3pm-21/
LOCATION:The Outfitters\, 35 Outfitters Park Drive\, Richmond Hill\, GA\, United States
CATEGORIES:Public Events
ATTACH;FMTTYPE=image/jpeg:https://heartwoodlife.com/wp-content/uploads/2024/01/BCK-Logo.jpg
END:VEVENT
BEGIN:VEVENT
DTSTART;TZID=America/New_York:20240306T173000
DTEND;TZID=America/New_York:20240306T193000
DTSTAMP:20260419T170117
CREATED:20240206T150035Z
LAST-MODIFIED:20240206T165217Z
UID:10000104-1709746200-1709753400@heartwoodlife.com
SUMMARY:Food Truck
DESCRIPTION:Donut NV food truck will be onsite at The Outfitters at Heartwood.
URL:https://heartwoodlife.com/event/food-truck-2/
LOCATION:GA
CATEGORIES:Food Trucks,Public Events
ATTACH;FMTTYPE=image/png:https://heartwoodlife.com/wp-content/uploads/2024/01/Food-Truck-cmyk-1.png
END:VEVENT
BEGIN:VEVENT
DTSTART;TZID=America/New_York:20240306T080000
DTEND;TZID=America/New_York:20240306T140000
DTSTAMP:20260419T170117
CREATED:20240202T212428Z
LAST-MODIFIED:20240205T164449Z
UID:10000087-1709712000-1709733600@heartwoodlife.com
SUMMARY:Bleu Coat Kitchen Open Today 8am-2pm
DESCRIPTION:
URL:https://heartwoodlife.com/event/bleu-coat-kitchen-open-today-8am-3pm-20/
LOCATION:The Outfitters\, 35 Outfitters Park Drive\, Richmond Hill\, GA\, United States
CATEGORIES:Public Events
ATTACH;FMTTYPE=image/jpeg:https://heartwoodlife.com/wp-content/uploads/2024/01/BCK-Logo.jpg
END:VEVENT
BEGIN:VEVENT
DTSTART;TZID=America/New_York:20240305T080000
DTEND;TZID=America/New_York:20240305T140000
DTSTAMP:20260419T170117
CREATED:20240202T212344Z
LAST-MODIFIED:20240205T164430Z
UID:10000086-1709625600-1709647200@heartwoodlife.com
SUMMARY:Bleu Coat Kitchen Open Today 8am-2pm
DESCRIPTION:
URL:https://heartwoodlife.com/event/bleu-coat-kitchen-open-today-8am-3pm-19/
LOCATION:The Outfitters\, 35 Outfitters Park Drive\, Richmond Hill\, GA\, United States
CATEGORIES:Public Events
ATTACH;FMTTYPE=image/jpeg:https://heartwoodlife.com/wp-content/uploads/2024/01/BCK-Logo.jpg
END:VEVENT
BEGIN:VEVENT
DTSTART;VALUE=DATE:20240305
DTEND;VALUE=DATE:20240306
DTSTAMP:20260419T170117
CREATED:20240119T192102Z
LAST-MODIFIED:20240119T192102Z
UID:10000034-1709596800-1709683199@heartwoodlife.com
SUMMARY:Private Event
DESCRIPTION:Private Event
URL:https://heartwoodlife.com/event/private-event/
LOCATION:The Outfitters\, 35 Outfitters Park Drive\, Richmond Hill\, GA\, United States
CATEGORIES:Private Events
END:VEVENT
BEGIN:VEVENT
DTSTART;TZID=America/New_York:20240304T181500
DTEND;TZID=America/New_York:20240304T190000
DTSTAMP:20260419T170117
CREATED:20240125T204016Z
LAST-MODIFIED:20240125T204808Z
UID:10000054-1709576100-1709578800@heartwoodlife.com
SUMMARY:Gentle Yoga
DESCRIPTION:A slower and more gentle practice of yoga\, gentle yoga allows a comfortable pace\, where you can choose what works for you. Gentle yoga creates less strain on muscles and joints. A great practice for anyone regardless of age\, this class is perfect for people recovering from injuries\, pain or limited mobility. More emphasis is spent warming up\, longer relaxation time\, breath work and meditation for a fully-rounded experience! \nFor pricing and registration\, download the Bē Health App. \n1. Download the app to register: https://www.sjchs.org/be-health-and-well-being/be-health-app\n2. SJC Health questionnaire and waiver: https://www.sjchs.org/be-health…/be-health-questionnaire/
URL:https://heartwoodlife.com/event/gentle-yoga-6/
LOCATION:The Fitness Room at The Outfitters\, 35 Outfitters Park Drive\, Richmond Hill\, GA\, 31324\, United States
CATEGORIES:Bē Health,Fitness
ORGANIZER;CN="B%C4%93 Health %E2%80%A2 St. Joseph's / Candler":MAILTO:behealth@sjchs.org
END:VEVENT
BEGIN:VEVENT
DTSTART;TZID=America/New_York:20240304T153000
DTEND;TZID=America/New_York:20240304T161500
DTSTAMP:20260419T170117
CREATED:20240125T203947Z
LAST-MODIFIED:20240125T203947Z
UID:10000053-1709566200-1709568900@heartwoodlife.com
SUMMARY:Pound
DESCRIPTION:You become the music in an exhilarating full-body workout that combines cardio and strength training.  This class is designed for all fitness levels. \nRegister on the Bē Health App. Download here.
URL:https://heartwoodlife.com/event/pound-7/
LOCATION:The Fitness Room at The Outfitters\, 35 Outfitters Park Drive\, Richmond Hill\, GA\, 31324\, United States
CATEGORIES:Bē Health,Fitness
ORGANIZER;CN="B%C4%93 Health %E2%80%A2 St. Joseph's / Candler":MAILTO:behealth@sjchs.org
END:VEVENT
BEGIN:VEVENT
DTSTART;TZID=America/New_York:20240304T080000
DTEND;TZID=America/New_York:20240304T140000
DTSTAMP:20260419T170117
CREATED:20240202T212313Z
LAST-MODIFIED:20240205T164411Z
UID:10000085-1709539200-1709560800@heartwoodlife.com
SUMMARY:Bleu Coat Kitchen Open Today 8am-2pm
DESCRIPTION:
URL:https://heartwoodlife.com/event/bleu-coat-kitchen-open-today-8am-3pm-18/
LOCATION:The Outfitters\, 35 Outfitters Park Drive\, Richmond Hill\, GA\, United States
CATEGORIES:Public Events
ATTACH;FMTTYPE=image/jpeg:https://heartwoodlife.com/wp-content/uploads/2024/01/BCK-Logo.jpg
END:VEVENT
BEGIN:VEVENT
DTSTART;TZID=America/New_York:20240301T080000
DTEND;TZID=America/New_York:20240301T140000
DTSTAMP:20260419T170117
CREATED:20240202T211629Z
LAST-MODIFIED:20240205T164153Z
UID:10000084-1709280000-1709301600@heartwoodlife.com
SUMMARY:Bleu Coat Kitchen Open Today 8am-2pm
DESCRIPTION:
URL:https://heartwoodlife.com/event/bleu-coat-kitchen-open-today-8am-3pm-17/
LOCATION:The Outfitters\, 35 Outfitters Park Drive\, Richmond Hill\, GA\, United States
CATEGORIES:Public Events
ATTACH;FMTTYPE=image/jpeg:https://heartwoodlife.com/wp-content/uploads/2024/01/BCK-Logo.jpg
END:VEVENT
BEGIN:VEVENT
DTSTART;VALUE=DATE:20240301
DTEND;VALUE=DATE:20240302
DTSTAMP:20260419T170117
CREATED:20240123T204630Z
LAST-MODIFIED:20240125T194606Z
UID:10000036-1709251200-1709337599@heartwoodlife.com
SUMMARY:Private Event
DESCRIPTION:Private Event
URL:https://heartwoodlife.com/event/private-event-2/
LOCATION:The Outfitters\, 35 Outfitters Park Drive\, Richmond Hill\, GA\, United States
CATEGORIES:Private Events
END:VEVENT
BEGIN:VEVENT
DTSTART;TZID=America/New_York:20240229T080000
DTEND;TZID=America/New_York:20240229T140000
DTSTAMP:20260419T170117
CREATED:20240202T211559Z
LAST-MODIFIED:20240205T164135Z
UID:10000083-1709193600-1709215200@heartwoodlife.com
SUMMARY:Bleu Coat Kitchen Open Today 8am-2pm
DESCRIPTION:
URL:https://heartwoodlife.com/event/bleu-coat-kitchen-open-today-8am-3pm-16/
LOCATION:The Outfitters\, 35 Outfitters Park Drive\, Richmond Hill\, GA\, United States
CATEGORIES:Public Events
ATTACH;FMTTYPE=image/jpeg:https://heartwoodlife.com/wp-content/uploads/2024/01/BCK-Logo.jpg
END:VEVENT
BEGIN:VEVENT
DTSTART;TZID=America/New_York:20240228T080000
DTEND;TZID=America/New_York:20240228T140000
DTSTAMP:20260419T170117
CREATED:20240202T211437Z
LAST-MODIFIED:20240205T164116Z
UID:10000082-1709107200-1709128800@heartwoodlife.com
SUMMARY:Bleu Coat Kitchen Open Today 8am-2pm
DESCRIPTION:
URL:https://heartwoodlife.com/event/bleu-coat-kitchen-open-today-8am-3pm-15/
LOCATION:The Outfitters\, 35 Outfitters Park Drive\, Richmond Hill\, GA\, United States
CATEGORIES:Public Events
ATTACH;FMTTYPE=image/jpeg:https://heartwoodlife.com/wp-content/uploads/2024/01/BCK-Logo.jpg
END:VEVENT
BEGIN:VEVENT
DTSTART;TZID=America/New_York:20240227T080000
DTEND;TZID=America/New_York:20240227T140000
DTSTAMP:20260419T170117
CREATED:20240202T211348Z
LAST-MODIFIED:20240205T164057Z
UID:10000081-1709020800-1709042400@heartwoodlife.com
SUMMARY:Bleu Coat Kitchen Open Today 8am-2pm
DESCRIPTION:
URL:https://heartwoodlife.com/event/bleu-coat-kitchen-open-today-8am-3pm-14/
LOCATION:The Outfitters\, 35 Outfitters Park Drive\, Richmond Hill\, GA\, United States
CATEGORIES:Public Events
ATTACH;FMTTYPE=image/jpeg:https://heartwoodlife.com/wp-content/uploads/2024/01/BCK-Logo.jpg
END:VEVENT
BEGIN:VEVENT
DTSTART;TZID=America/New_York:20240226T181500
DTEND;TZID=America/New_York:20240226T190000
DTSTAMP:20260419T170117
CREATED:20240125T190540Z
LAST-MODIFIED:20240125T204740Z
UID:10000050-1708971300-1708974000@heartwoodlife.com
SUMMARY:Gentle Yoga
DESCRIPTION:A slower and more gentle practice of yoga\, gentle yoga allows a comfortable pace\, where you can choose what works for you. Gentle yoga creates less strain on muscles and joints. A great practice for anyone regardless of age\, this class is perfect for people recovering from injuries\, pain or limited mobility. More emphasis is spent warming up\, longer relaxation time\, breath work and meditation for a fully-rounded experience! \nFor pricing and registration\, download the Bē Health App. \n1. Download the app to register: https://www.sjchs.org/be-health-and-well-being/be-health-app\n2. SJC Health questionnaire and waiver: https://www.sjchs.org/be-health…/be-health-questionnaire/
URL:https://heartwoodlife.com/event/gentle-yoga-5/
LOCATION:The Fitness Room at The Outfitters\, 35 Outfitters Park Drive\, Richmond Hill\, GA\, 31324\, United States
ORGANIZER;CN="B%C4%93 Health %E2%80%A2 St. Joseph's / Candler":MAILTO:behealth@sjchs.org
END:VEVENT
BEGIN:VEVENT
DTSTART;TZID=America/New_York:20240226T153000
DTEND;TZID=America/New_York:20240226T161500
DTSTAMP:20260419T170117
CREATED:20240125T190358Z
LAST-MODIFIED:20240125T190358Z
UID:10000049-1708961400-1708964100@heartwoodlife.com
SUMMARY:Pound
DESCRIPTION:You become the music in an exhilarating full-body workout that combines cardio and strength training.  This class is designed for all fitness levels. \nRegister on the Bē Health App. Download here.
URL:https://heartwoodlife.com/event/pound-6/
LOCATION:The Fitness Room at The Outfitters\, 35 Outfitters Park Drive\, Richmond Hill\, GA\, 31324\, United States
CATEGORIES:Bē Health,Fitness
ORGANIZER;CN="B%C4%93 Health %E2%80%A2 St. Joseph's / Candler":MAILTO:behealth@sjchs.org
END:VEVENT
BEGIN:VEVENT
DTSTART;TZID=America/New_York:20240226T080000
DTEND;TZID=America/New_York:20240226T140000
DTSTAMP:20260419T170117
CREATED:20240202T211306Z
LAST-MODIFIED:20240205T164038Z
UID:10000080-1708934400-1708956000@heartwoodlife.com
SUMMARY:Bleu Coat Kitchen Open Today 8am-2pm
DESCRIPTION:
URL:https://heartwoodlife.com/event/bleu-coat-kitchen-open-today-8am-3pm-13/
LOCATION:The Outfitters\, 35 Outfitters Park Drive\, Richmond Hill\, GA\, United States
CATEGORIES:Public Events
ATTACH;FMTTYPE=image/jpeg:https://heartwoodlife.com/wp-content/uploads/2024/01/BCK-Logo.jpg
END:VEVENT
BEGIN:VEVENT
DTSTART;TZID=America/New_York:20240224T110000
DTEND;TZID=America/New_York:20240224T114500
DTSTAMP:20260419T170117
CREATED:20240125T190001Z
LAST-MODIFIED:20240125T190001Z
UID:10000048-1708772400-1708775100@heartwoodlife.com
SUMMARY:"Flow" Yoga
DESCRIPTION:Called “Flow” Yoga because the poses blend in practice. A more dynamic style of class for students looking to grow their practice\, synchronized with breathing\, creating your anchor as you move from pose to pose. Excellent for your health\, not only in keeping you active\, but also in reducing stress and building strength both inward and outward. Warm up\, Sun Salutations\, stretching and balancing are part of each class. Inner reflections and relaxation are used to close the class. \nFor pricing and registration\, download the Bē Health App. \n1. Download the app to register: https://www.sjchs.org/be-health-and-well-being/be-health-app\n2. SJC Health questionnaire and waiver: https://www.sjchs.org/be-health…/be-health-questionnaire/
URL:https://heartwoodlife.com/event/flow-yoga-7/
LOCATION:The Fitness Room at The Outfitters\, 35 Outfitters Park Drive\, Richmond Hill\, GA\, 31324\, United States
CATEGORIES:Bē Health,Fitness
ATTACH;FMTTYPE=image/png:https://heartwoodlife.com/wp-content/uploads/2024/01/Yoga-cmyk-1.png
ORGANIZER;CN="B%C4%93 Health %E2%80%A2 St. Joseph's / Candler":MAILTO:behealth@sjchs.org
END:VEVENT
BEGIN:VEVENT
DTSTART;TZID=America/New_York:20240223T080000
DTEND;TZID=America/New_York:20240223T140000
DTSTAMP:20260419T170117
CREATED:20240202T211217Z
LAST-MODIFIED:20240205T164019Z
UID:10000079-1708675200-1708696800@heartwoodlife.com
SUMMARY:Bleu Coat Kitchen Open Today 8am-2pm
DESCRIPTION:
URL:https://heartwoodlife.com/event/bleu-coat-kitchen-open-today-8am-3pm-12/
LOCATION:The Outfitters\, 35 Outfitters Park Drive\, Richmond Hill\, GA\, United States
CATEGORIES:Public Events
ATTACH;FMTTYPE=image/jpeg:https://heartwoodlife.com/wp-content/uploads/2024/01/BCK-Logo.jpg
END:VEVENT
BEGIN:VEVENT
DTSTART;TZID=America/New_York:20240222T080000
DTEND;TZID=America/New_York:20240222T140000
DTSTAMP:20260419T170117
CREATED:20240202T211148Z
LAST-MODIFIED:20240205T164001Z
UID:10000078-1708588800-1708610400@heartwoodlife.com
SUMMARY:Bleu Coat Kitchen Open Today 8am-2pm
DESCRIPTION:
URL:https://heartwoodlife.com/event/bleu-coat-kitchen-open-today-8am-3pm-11/
LOCATION:The Outfitters\, 35 Outfitters Park Drive\, Richmond Hill\, GA\, United States
CATEGORIES:Public Events
ATTACH;FMTTYPE=image/jpeg:https://heartwoodlife.com/wp-content/uploads/2024/01/BCK-Logo.jpg
END:VEVENT
BEGIN:VEVENT
DTSTART;TZID=America/New_York:20240221T080000
DTEND;TZID=America/New_York:20240221T140000
DTSTAMP:20260419T170117
CREATED:20240202T211111Z
LAST-MODIFIED:20240205T163941Z
UID:10000077-1708502400-1708524000@heartwoodlife.com
SUMMARY:Bleu Coat Kitchen Open Today 8am-2pm
DESCRIPTION:
URL:https://heartwoodlife.com/event/bleu-coat-kitchen-open-today-8am-3pm-10/
LOCATION:The Outfitters\, 35 Outfitters Park Drive\, Richmond Hill\, GA\, United States
CATEGORIES:Public Events
ATTACH;FMTTYPE=image/jpeg:https://heartwoodlife.com/wp-content/uploads/2024/01/BCK-Logo.jpg
END:VEVENT
BEGIN:VEVENT
DTSTART;TZID=America/New_York:20240220T173000
DTEND;TZID=America/New_York:20240220T203000
DTSTAMP:20260419T170117
CREATED:20240124T171626Z
LAST-MODIFIED:20240124T171627Z
UID:10000040-1708450200-1708461000@heartwoodlife.com
SUMMARY:Spring Door Hanger Painting Party
DESCRIPTION:Join us at Heartwood as we welcome Georgia Girl Art Paint Party for a Spring-themed Door Hanger Painting Party.  There are three designs to choose from\, and all paint colors are customizable.  Tickets are $40 each.  Registration will close on February 6th\, and space is limited.  Light snacks will be provided.  Feel free to bring your favorite beverage\, no glass containers. \nPlease be sure to register and choose your design.
URL:https://heartwoodlife.com/event/spring-door-hanger-painting-party/
LOCATION:The Outfitters\, 35 Outfitters Park Drive\, Richmond Hill\, GA\, United States
CATEGORIES:Public Events
END:VEVENT
BEGIN:VEVENT
DTSTART;TZID=America/New_York:20240220T080000
DTEND;TZID=America/New_York:20240220T140000
DTSTAMP:20260419T170117
CREATED:20240202T211023Z
LAST-MODIFIED:20240205T163922Z
UID:10000076-1708416000-1708437600@heartwoodlife.com
SUMMARY:Bleu Coat Kitchen Open Today 8am-2pm
DESCRIPTION:
URL:https://heartwoodlife.com/event/bleu-coat-kitchen-open-today-8am-3pm-9/
LOCATION:The Outfitters\, 35 Outfitters Park Drive\, Richmond Hill\, GA\, United States
CATEGORIES:Public Events
ATTACH;FMTTYPE=image/jpeg:https://heartwoodlife.com/wp-content/uploads/2024/01/BCK-Logo.jpg
END:VEVENT
BEGIN:VEVENT
DTSTART;TZID=America/New_York:20240219T181500
DTEND;TZID=America/New_York:20240219T190000
DTSTAMP:20260419T170117
CREATED:20240125T185914Z
LAST-MODIFIED:20240125T204557Z
UID:10000047-1708366500-1708369200@heartwoodlife.com
SUMMARY:Gentle Yoga
DESCRIPTION:A slower and more gentle practice of yoga\, gentle yoga allows a comfortable pace\, where you can choose what works for you. Gentle yoga creates less strain on muscles and joints. A great practice for anyone regardless of age\, this class is perfect for people recovering from injuries\, pain or limited mobility. More emphasis is spent warming up\, longer relaxation time\, breath work and meditation for a fully-rounded experience! \nFor pricing and registration\, download the Bē Health App. \n1. Download the app to register: https://www.sjchs.org/be-health-and-well-being/be-health-app\n2. SJC Health questionnaire and waiver: https://www.sjchs.org/be-health…/be-health-questionnaire/
URL:https://heartwoodlife.com/event/gentle-yoga-4/
LOCATION:The Fitness Room at The Outfitters\, 35 Outfitters Park Drive\, Richmond Hill\, GA\, 31324\, United States
ORGANIZER;CN="B%C4%93 Health %E2%80%A2 St. Joseph's / Candler":MAILTO:behealth@sjchs.org
END:VEVENT
BEGIN:VEVENT
DTSTART;TZID=America/New_York:20240219T153000
DTEND;TZID=America/New_York:20240219T161500
DTSTAMP:20260419T170117
CREATED:20240125T185838Z
LAST-MODIFIED:20240125T185838Z
UID:10000046-1708356600-1708359300@heartwoodlife.com
SUMMARY:Pound
DESCRIPTION:You become the music in an exhilarating full-body workout that combines cardio and strength training.  This class is designed for all fitness levels. \nRegister on the Bē Health App. Download here.
URL:https://heartwoodlife.com/event/pound-5/
LOCATION:The Fitness Room at The Outfitters\, 35 Outfitters Park Drive\, Richmond Hill\, GA\, 31324\, United States
CATEGORIES:Bē Health,Fitness
ORGANIZER;CN="B%C4%93 Health %E2%80%A2 St. Joseph's / Candler":MAILTO:behealth@sjchs.org
END:VEVENT
BEGIN:VEVENT
DTSTART;TZID=America/New_York:20240219T080000
DTEND;TZID=America/New_York:20240219T140000
DTSTAMP:20260419T170117
CREATED:20240202T210946Z
LAST-MODIFIED:20240205T163849Z
UID:10000075-1708329600-1708351200@heartwoodlife.com
SUMMARY:Bleu Coat Kitchen Open Today 8am-2pm
DESCRIPTION:
URL:https://heartwoodlife.com/event/bleu-coat-kitchen-open-today-8am-3pm-8/
LOCATION:The Outfitters\, 35 Outfitters Park Drive\, Richmond Hill\, GA\, United States
CATEGORIES:Public Events
ATTACH;FMTTYPE=image/jpeg:https://heartwoodlife.com/wp-content/uploads/2024/01/BCK-Logo.jpg
END:VEVENT
BEGIN:VEVENT
DTSTART;TZID=America/New_York:20240217T170000
DTEND;TZID=America/New_York:20240217T193000
DTSTAMP:20260419T170117
CREATED:20240206T165144Z
LAST-MODIFIED:20240206T165144Z
UID:10000105-1708189200-1708198200@heartwoodlife.com
SUMMARY:Food Truck
DESCRIPTION:Fast Freddie’s food truck will be onsite at The Outfitters at Heartwood. \nCheck out their menu!
URL:https://heartwoodlife.com/event/food-truck-3/
LOCATION:GA
CATEGORIES:Food Trucks,Public Events
ATTACH;FMTTYPE=image/png:https://heartwoodlife.com/wp-content/uploads/2024/01/Food-Truck-cmyk-1.png
END:VEVENT
BEGIN:VEVENT
DTSTART;TZID=America/New_York:20240217T110000
DTEND;TZID=America/New_York:20240217T114500
DTSTAMP:20260419T170117
CREATED:20240125T185744Z
LAST-MODIFIED:20240125T185744Z
UID:10000045-1708167600-1708170300@heartwoodlife.com
SUMMARY:"Flow" Yoga
DESCRIPTION:Called “Flow” Yoga because the poses blend in practice. A more dynamic style of class for students looking to grow their practice\, synchronized with breathing\, creating your anchor as you move from pose to pose. Excellent for your health\, not only in keeping you active\, but also in reducing stress and building strength both inward and outward. Warm up\, Sun Salutations\, stretching and balancing are part of each class. Inner reflections and relaxation are used to close the class. \nFor pricing and registration\, download the Bē Health App. \n1. Download the app to register: https://www.sjchs.org/be-health-and-well-being/be-health-app\n2. SJC Health questionnaire and waiver: https://www.sjchs.org/be-health…/be-health-questionnaire/
URL:https://heartwoodlife.com/event/flow-yoga-6/
LOCATION:The Fitness Room at The Outfitters\, 35 Outfitters Park Drive\, Richmond Hill\, GA\, 31324\, United States
CATEGORIES:Bē Health,Fitness
ORGANIZER;CN="B%C4%93 Health %E2%80%A2 St. Joseph's / Candler":MAILTO:behealth@sjchs.org
END:VEVENT
END:VCALENDAR