BEGIN:VCALENDAR
VERSION:2.0
PRODID:-//Heartwood Life - ECPv6.15.20//NONSGML v1.0//EN
CALSCALE:GREGORIAN
METHOD:PUBLISH
X-WR-CALNAME:Heartwood Life
X-ORIGINAL-URL:https://heartwoodlife.com
X-WR-CALDESC:Events for Heartwood Life
REFRESH-INTERVAL;VALUE=DURATION:PT1H
X-Robots-Tag:noindex
X-PUBLISHED-TTL:PT1H
BEGIN:VTIMEZONE
TZID:America/New_York
BEGIN:DAYLIGHT
TZOFFSETFROM:-0500
TZOFFSETTO:-0400
TZNAME:EDT
DTSTART:20230312T070000
END:DAYLIGHT
BEGIN:STANDARD
TZOFFSETFROM:-0400
TZOFFSETTO:-0500
TZNAME:EST
DTSTART:20231105T060000
END:STANDARD
BEGIN:DAYLIGHT
TZOFFSETFROM:-0500
TZOFFSETTO:-0400
TZNAME:EDT
DTSTART:20240310T070000
END:DAYLIGHT
BEGIN:STANDARD
TZOFFSETFROM:-0400
TZOFFSETTO:-0500
TZNAME:EST
DTSTART:20241103T060000
END:STANDARD
BEGIN:DAYLIGHT
TZOFFSETFROM:-0500
TZOFFSETTO:-0400
TZNAME:EDT
DTSTART:20250309T070000
END:DAYLIGHT
BEGIN:STANDARD
TZOFFSETFROM:-0400
TZOFFSETTO:-0500
TZNAME:EST
DTSTART:20251102T060000
END:STANDARD
END:VTIMEZONE
BEGIN:VEVENT
DTSTART;TZID=America/New_York:20240131T160000
DTEND;TZID=America/New_York:20240131T170000
DTSTAMP:20260419T183450
CREATED:20240112T144102Z
LAST-MODIFIED:20240112T144102Z
UID:10000020-1706716800-1706720400@heartwoodlife.com
SUMMARY:Wednesday Afternoon Hike the Hill
DESCRIPTION:Walks with our Bē Health Navigator are free and open to the public. \nYou must register first on the app! \nSteps to Register:\n1. Download the app to register: https://www.sjchs.org/be-health-and-well-being/be-health-app\n2. SJC Health questionnaire and waiver: https://www.sjchs.org/be-health…/be-health-questionnaire/ \n 
URL:https://heartwoodlife.com/event/wednesday-afternoon-hike-the-hill-3/
LOCATION:The Outfitters\, 35 Outfitters Park Drive\, Richmond Hill\, GA\, United States
ATTACH;FMTTYPE=image/png:https://heartwoodlife.com/wp-content/uploads/2024/01/Hike-the-Hill-cmyk-1.png
ORGANIZER;CN="B%C4%93 Health %E2%80%A2 St. Joseph's / Candler":MAILTO:behealth@sjchs.org
END:VEVENT
BEGIN:VEVENT
DTSTART;VALUE=DATE:20240131
DTEND;VALUE=DATE:20240201
DTSTAMP:20260419T183450
CREATED:20240125T194937Z
LAST-MODIFIED:20240125T194937Z
UID:10000052-1706659200-1706745599@heartwoodlife.com
SUMMARY:Private Event
DESCRIPTION:Private Event
URL:https://heartwoodlife.com/event/private-event-4/
LOCATION:The Outfitters\, 35 Outfitters Park Drive\, Richmond Hill\, GA\, United States
CATEGORIES:Private Events
END:VEVENT
BEGIN:VEVENT
DTSTART;TZID=America/New_York:20240130T090000
DTEND;TZID=America/New_York:20240130T100000
DTSTAMP:20260419T183450
CREATED:20240112T144002Z
LAST-MODIFIED:20240112T144002Z
UID:10000018-1706605200-1706608800@heartwoodlife.com
SUMMARY:Tuesday Morning Hike the Hill
DESCRIPTION:Walks with our Bē Health Navigator are free and open to the public. \nYou must register first on the app! \nSteps to Register:\n1. Download the app to register: https://www.sjchs.org/be-health-and-well-being/be-health-app\n2. SJC Health questionnaire and waiver: https://www.sjchs.org/be-health…/be-health-questionnaire/ \n 
URL:https://heartwoodlife.com/event/tuesday-morning-hike-the-hill-2/
LOCATION:The Outfitters\, 35 Outfitters Park Drive\, Richmond Hill\, GA\, United States
ATTACH;FMTTYPE=image/png:https://heartwoodlife.com/wp-content/uploads/2024/01/Hike-the-Hill-cmyk-1.png
ORGANIZER;CN="B%C4%93 Health %E2%80%A2 St. Joseph's / Candler":MAILTO:behealth@sjchs.org
END:VEVENT
BEGIN:VEVENT
DTSTART;TZID=America/New_York:20240129T173000
DTEND;TZID=America/New_York:20240129T183000
DTSTAMP:20260419T183450
CREATED:20240117T181555Z
LAST-MODIFIED:20240117T181555Z
UID:10000029-1706549400-1706553000@heartwoodlife.com
SUMMARY:National Puzzle Day Competition (Resident-Only)
DESCRIPTION:National Puzzle Day Competition at The Outfitters. \nThis event is only for Heartwood residents.
URL:https://heartwoodlife.com/event/puzzle/
LOCATION:The Outfitters\, 35 Outfitters Park Drive\, Richmond Hill\, GA\, United States
END:VEVENT
BEGIN:VEVENT
DTSTART;TZID=America/New_York:20240129T153000
DTEND;TZID=America/New_York:20240129T161500
DTSTAMP:20260419T183450
CREATED:20240111T230425Z
LAST-MODIFIED:20240111T231143Z
UID:10000013-1706542200-1706544900@heartwoodlife.com
SUMMARY:Kid's Generation Pound
DESCRIPTION:Kid-focused program that fuses movement and music! By combining exercise and interactive activities\, kids will learn new ways to explore movement\, embrace creativity and Rock Out! This class is geared toward children 6 to 12 years of age. \n  \nRegister on the Bē Health App. Download here.
URL:https://heartwoodlife.com/event/kids-generation-pound-2/
LOCATION:GA
END:VEVENT
BEGIN:VEVENT
DTSTART;TZID=America/New_York:20240127T140000
DTEND;TZID=America/New_York:20240127T150000
DTSTAMP:20260419T183450
CREATED:20240111T224116Z
LAST-MODIFIED:20240112T140311Z
UID:10000010-1706364000-1706367600@heartwoodlife.com
SUMMARY:Polar Plunge (Resident Event)
DESCRIPTION:Take the chilly plunge if you dare! We’ll have hot cocoa afterwards to warm up.
URL:https://heartwoodlife.com/event/polar-plunge-resident-event/
LOCATION:The Outfitters Pool\, 75 Outfitters Park Drive\, Richmond Hill\, GA\, 31324\, United States
ATTACH;FMTTYPE=image/png:https://heartwoodlife.com/wp-content/uploads/2024/01/Polar-Plunge-Logo-.png
END:VEVENT
BEGIN:VEVENT
DTSTART;TZID=America/New_York:20240124T160000
DTEND;TZID=America/New_York:20240124T170000
DTSTAMP:20260419T183450
CREATED:20240112T144032Z
LAST-MODIFIED:20240112T144032Z
UID:10000019-1706112000-1706115600@heartwoodlife.com
SUMMARY:Wednesday Afternoon Hike the Hill
DESCRIPTION:Walks with our Bē Health Navigator are free and open to the public. \nYou must register first on the app! \nSteps to Register:\n1. Download the app to register: https://www.sjchs.org/be-health-and-well-being/be-health-app\n2. SJC Health questionnaire and waiver: https://www.sjchs.org/be-health…/be-health-questionnaire/ \n 
URL:https://heartwoodlife.com/event/wednesday-afternoon-hike-the-hill-2/
LOCATION:The Outfitters\, 35 Outfitters Park Drive\, Richmond Hill\, GA\, United States
ATTACH;FMTTYPE=image/png:https://heartwoodlife.com/wp-content/uploads/2024/01/Hike-the-Hill-cmyk-1.png
ORGANIZER;CN="B%C4%93 Health %E2%80%A2 St. Joseph's / Candler":MAILTO:behealth@sjchs.org
END:VEVENT
BEGIN:VEVENT
DTSTART;TZID=America/New_York:20240124T000000
DTEND;TZID=America/New_York:20240124T000000
DTSTAMP:20260419T183450
CREATED:20240124T170043Z
LAST-MODIFIED:20240124T170043Z
UID:10000037-1706054400-1706054400@heartwoodlife.com
SUMMARY:Pound
DESCRIPTION:You become the music in an exhilarating full-body workout that combines cardio and strength training.  This class is designed for all fitness levels. \nRegister on the Bē Health App. Download here.
URL:https://heartwoodlife.com/event/pound-2/
LOCATION:GA
END:VEVENT
BEGIN:VEVENT
DTSTART;TZID=America/New_York:20240123T170000
DTEND;TZID=America/New_York:20240123T190000
DTSTAMP:20260419T183450
CREATED:20240111T221542Z
LAST-MODIFIED:20240111T231315Z
UID:10000009-1706029200-1706036400@heartwoodlife.com
SUMMARY:Food Truck
DESCRIPTION:Down South Cheesesteaks \n@ The Outfitters \n \n 
URL:https://heartwoodlife.com/event/food-truck/
LOCATION:The Outfitters\, 35 Outfitters Park Drive\, Richmond Hill\, GA\, United States
ATTACH;FMTTYPE=image/png:https://heartwoodlife.com/wp-content/uploads/2024/01/Food-Truck-cmyk.png
END:VEVENT
BEGIN:VEVENT
DTSTART;TZID=America/New_York:20240123T090000
DTEND;TZID=America/New_York:20240123T100000
DTSTAMP:20260419T183450
CREATED:20240112T143929Z
LAST-MODIFIED:20240112T143929Z
UID:10000017-1706000400-1706004000@heartwoodlife.com
SUMMARY:Tuesday Morning Hike the Hill
DESCRIPTION:Walks with our Bē Health Navigator are free and open to the public. \nYou must register first on the app! \nSteps to Register:\n1. Download the app to register: https://www.sjchs.org/be-health-and-well-being/be-health-app\n2. SJC Health questionnaire and waiver: https://www.sjchs.org/be-health…/be-health-questionnaire/ \n 
URL:https://heartwoodlife.com/event/tuesday-morning-hike-the-hill/
LOCATION:The Outfitters\, 35 Outfitters Park Drive\, Richmond Hill\, GA\, United States
ATTACH;FMTTYPE=image/png:https://heartwoodlife.com/wp-content/uploads/2024/01/Hike-the-Hill-cmyk-1.png
ORGANIZER;CN="B%C4%93 Health %E2%80%A2 St. Joseph's / Candler":MAILTO:behealth@sjchs.org
END:VEVENT
BEGIN:VEVENT
DTSTART;TZID=America/New_York:20240122T181500
DTEND;TZID=America/New_York:20240122T190000
DTSTAMP:20260419T183450
CREATED:20240112T145553Z
LAST-MODIFIED:20240118T190656Z
UID:10000021-1705947300-1705950000@heartwoodlife.com
SUMMARY:Gentle Yoga
DESCRIPTION:A slower and more gentle practice of yoga\, gentle yoga allows a comfortable pace\, where you can choose what works for you. Gentle yoga creates less strain on muscles and joints. A great practice for anyone regardless of age\, this class is perfect for people recovering from injuries\, pain or limited mobility. More emphasis is spent warming up\, longer relaxation time\, breath work and meditation for a fully-rounded experience! \nFor pricing and registration\, download the Bē Health App. \n1. Download the app to register: https://www.sjchs.org/be-health-and-well-being/be-health-app\n2. SJC Health questionnaire and waiver: https://www.sjchs.org/be-health…/be-health-questionnaire/
URL:https://heartwoodlife.com/event/gentle-yoga/
LOCATION:The Fitness Room at The Outfitters\, 35 Outfitters Park Drive\, Richmond Hill\, GA\, 31324\, United States
ORGANIZER;CN="B%C4%93 Health %E2%80%A2 St. Joseph's / Candler":MAILTO:behealth@sjchs.org
END:VEVENT
BEGIN:VEVENT
DTSTART;TZID=America/New_York:20240122T163000
DTEND;TZID=America/New_York:20240122T171500
DTSTAMP:20260419T183450
CREATED:20240118T191733Z
LAST-MODIFIED:20240118T195357Z
UID:10000030-1705941000-1705943700@heartwoodlife.com
SUMMARY:Pound
DESCRIPTION:You become the music in an exhilarating full-body workout that combines cardio and strength training.  This class is designed for all fitness levels. \nRegister on the Bē Health App. Download here.
URL:https://heartwoodlife.com/event/pound/
LOCATION:The Fitness Room at The Outfitters\, 35 Outfitters Park Drive\, Richmond Hill\, GA\, 31324\, United States
CATEGORIES:Bē Health,Fitness
ORGANIZER;CN="B%C4%93 Health %E2%80%A2 St. Joseph's / Candler":MAILTO:behealth@sjchs.org
END:VEVENT
BEGIN:VEVENT
DTSTART;TZID=America/New_York:20240122T153000
DTEND;TZID=America/New_York:20240122T161500
DTSTAMP:20260419T183450
CREATED:20240111T230342Z
LAST-MODIFIED:20240111T231109Z
UID:10000012-1705937400-1705940100@heartwoodlife.com
SUMMARY:Kid's Generation Pound
DESCRIPTION:Kid-focused program that fuses movement and music! By combining exercise and interactive activities\, kids will learn new ways to explore movement\, embrace creativity and Rock Out! This class is geared toward children 6 to 12 years of age. \n  \nRegister on the Bē Health App. Download here.
URL:https://heartwoodlife.com/event/kids-generation-pound/
LOCATION:The Outfitters\, 35 Outfitters Park Drive\, Richmond Hill\, GA\, United States
ORGANIZER;CN="B%C4%93 Health %E2%80%A2 St. Joseph's / Candler":MAILTO:behealth@sjchs.org
END:VEVENT
BEGIN:VEVENT
DTSTART;TZID=America/New_York:20240120T110000
DTEND;TZID=America/New_York:20240120T120000
DTSTAMP:20260419T183450
CREATED:20240112T152822Z
LAST-MODIFIED:20240112T152822Z
UID:10000025-1705748400-1705752000@heartwoodlife.com
SUMMARY:"Flow" Yoga
DESCRIPTION:Called “Flow” Yoga because the poses blend in practice. A more dynamic style of class for students looking to grow their practice\, synchronized with breathing\, creating your anchor as you move from pose to pose. Excellent for your health\, not only in keeping you active\, but also in reducing stress and building strength both inward and outward. Warm up\, Sun Salutations\, stretching and balancing are part of each class. Inner reflections and relaxation are used to close the class. \nFor pricing and registration\, download the Bē Health App. \n1. Download the app to register: https://www.sjchs.org/be-health-and-well-being/be-health-app\n2. SJC Health questionnaire and waiver: https://www.sjchs.org/be-health…/be-health-questionnaire/
URL:https://heartwoodlife.com/event/flow-yoga-3/
LOCATION:The Fitness Room at The Outfitters\, 35 Outfitters Park Drive\, Richmond Hill\, GA\, 31324\, United States
ORGANIZER;CN="B%C4%93 Health %E2%80%A2 St. Joseph's / Candler":MAILTO:behealth@sjchs.org
END:VEVENT
BEGIN:VEVENT
DTSTART;TZID=America/New_York:20240117T160000
DTEND;TZID=America/New_York:20240117T170000
DTSTAMP:20260419T183450
CREATED:20240112T143745Z
LAST-MODIFIED:20240112T143745Z
UID:10000016-1705507200-1705510800@heartwoodlife.com
SUMMARY:Wednesday Afternoon Hike the Hill
DESCRIPTION:Walks with our Bē Health Navigator are free and open to the public. \nYou must register first on the app! \nSteps to Register:\n1. Download the app to register: https://www.sjchs.org/be-health-and-well-being/be-health-app\n2. SJC Health questionnaire and waiver: https://www.sjchs.org/be-health…/be-health-questionnaire/ \n 
URL:https://heartwoodlife.com/event/wednesday-afternoon-hike-the-hill/
LOCATION:The Outfitters\, 35 Outfitters Park Drive\, Richmond Hill\, GA\, United States
ATTACH;FMTTYPE=image/png:https://heartwoodlife.com/wp-content/uploads/2024/01/Hike-the-Hill-cmyk-1.png
ORGANIZER;CN="B%C4%93 Health %E2%80%A2 St. Joseph's / Candler":MAILTO:behealth@sjchs.org
END:VEVENT
BEGIN:VEVENT
DTSTART;TZID=America/New_York:20240116T090000
DTEND;TZID=America/New_York:20240116T100000
DTSTAMP:20260419T183450
CREATED:20240112T143641Z
LAST-MODIFIED:20240112T143809Z
UID:10000015-1705395600-1705399200@heartwoodlife.com
SUMMARY:Tuesday Morning Hike the Hill
DESCRIPTION:Walks with our Bē Health Navigator are free and open to the public. \nYou must register first on the app! \nSteps to Register:\n1. Download the app to register: https://www.sjchs.org/be-health-and-well-being/be-health-app\n2. SJC Health questionnaire and waiver: https://www.sjchs.org/be-health…/be-health-questionnaire/ \n 
URL:https://heartwoodlife.com/event/hike-the-hill-2/
LOCATION:The Outfitters\, 35 Outfitters Park Drive\, Richmond Hill\, GA\, United States
ATTACH;FMTTYPE=image/png:https://heartwoodlife.com/wp-content/uploads/2024/01/Hike-the-Hill-cmyk-1.png
ORGANIZER;CN="B%C4%93 Health %E2%80%A2 St. Joseph's / Candler":MAILTO:behealth@sjchs.org
END:VEVENT
END:VCALENDAR