BEGIN:VCALENDAR
VERSION:2.0
PRODID:-//Heartwood Life - ECPv6.15.20//NONSGML v1.0//EN
CALSCALE:GREGORIAN
METHOD:PUBLISH
X-WR-CALNAME:Heartwood Life
X-ORIGINAL-URL:https://heartwoodlife.com
X-WR-CALDESC:Events for Heartwood Life
REFRESH-INTERVAL;VALUE=DURATION:PT1H
X-Robots-Tag:noindex
X-PUBLISHED-TTL:PT1H
BEGIN:VTIMEZONE
TZID:America/New_York
BEGIN:DAYLIGHT
TZOFFSETFROM:-0500
TZOFFSETTO:-0400
TZNAME:EDT
DTSTART:20240310T070000
END:DAYLIGHT
BEGIN:STANDARD
TZOFFSETFROM:-0400
TZOFFSETTO:-0500
TZNAME:EST
DTSTART:20241103T060000
END:STANDARD
BEGIN:DAYLIGHT
TZOFFSETFROM:-0500
TZOFFSETTO:-0400
TZNAME:EDT
DTSTART:20250309T070000
END:DAYLIGHT
BEGIN:STANDARD
TZOFFSETFROM:-0400
TZOFFSETTO:-0500
TZNAME:EST
DTSTART:20251102T060000
END:STANDARD
BEGIN:DAYLIGHT
TZOFFSETFROM:-0500
TZOFFSETTO:-0400
TZNAME:EDT
DTSTART:20260308T070000
END:DAYLIGHT
BEGIN:STANDARD
TZOFFSETFROM:-0400
TZOFFSETTO:-0500
TZNAME:EST
DTSTART:20261101T060000
END:STANDARD
END:VTIMEZONE
BEGIN:VEVENT
DTSTART;TZID=America/New_York:20250804T183000
DTEND;TZID=America/New_York:20250804T191500
DTSTAMP:20260421T072053
CREATED:20250731T140418Z
LAST-MODIFIED:20250731T140418Z
UID:10000499-1754332200-1754334900@heartwoodlife.com
SUMMARY:Flow Yoga
DESCRIPTION:Called “Flow” Yoga as the poses blend in practice\, a more dynamic style of class for students looking to grow their practice\, synchronized with breath\, creating your anchor as you move from pose to pose. Excellent for your health\, not only keeping you active\, but also reducing stress and building strength outward and inward. Mairi includes a Warm up\, Sun Salutations\, stretching and balancing as a part of every class. Inner reflection and relaxation are used to close class. \nFor pricing and registration\, download the Bē Health App. \n1. Download the app to register: https://www.sjchs.org/be-health-and-well-being/be-health-app \n 
URL:https://heartwoodlife.com/event/flow-yoga-40/
LOCATION:The Fitness Room at The Outfitters\, 35 Outfitters Park Drive\, Richmond Hill\, GA\, 31324\, United States
CATEGORIES:Bē Health,Fitness,Public Events
ATTACH;FMTTYPE=image/png:https://heartwoodlife.com/wp-content/uploads/2025/01/Yoga.png
ORGANIZER;CN="B%C4%93 Health %E2%80%A2 St. Joseph's / Candler":MAILTO:behealth@sjchs.org
END:VEVENT
BEGIN:VEVENT
DTSTART;TZID=America/New_York:20250806T123000
DTEND;TZID=America/New_York:20250806T131500
DTSTAMP:20260421T072053
CREATED:20250804T193930Z
LAST-MODIFIED:20250804T193930Z
UID:10000511-1754483400-1754486100@heartwoodlife.com
SUMMARY:Silver Sneakers Yoga
DESCRIPTION:Silver Sneakers Yoga: Silver Sneakers Yoga is great for a beginner or more experience exerciser interested in Yoga and flexibility training. You will move through seated and standing yoga poses that aim to increase flexibility\, balance and range of motion. Breathing exercises and relaxation is incorporated into every class to promote stress reduction. A chair is used to accommodate a variety of fitness and skill levels during this class.\n\nFor pricing and registration\, download the Bē Health App. \n1. Download the app to register: https://www.sjchs.org/be-health-and-well-being/be-health-app
URL:https://heartwoodlife.com/event/silver-sneakers-yoga-26/
LOCATION:St. Joseph’s/Candler Facility\, 3866 Belfast Keller Rd\, Richmond Hill\, GA\, 31324\, United States
CATEGORIES:Bē Health,Fitness,Public Events
ATTACH;FMTTYPE=image/png:https://heartwoodlife.com/wp-content/uploads/2025/01/Yoga.png
ORGANIZER;CN="B%C4%93 Health %E2%80%A2 St. Joseph's / Candler":MAILTO:behealth@sjchs.org
END:VEVENT
BEGIN:VEVENT
DTSTART;TZID=America/New_York:20250806T160000
DTEND;TZID=America/New_York:20250806T164500
DTSTAMP:20260421T072053
CREATED:20250804T190610Z
LAST-MODIFIED:20250804T190610Z
UID:10000507-1754496000-1754498700@heartwoodlife.com
SUMMARY:Children's Yoga
DESCRIPTION:Children’s Yoga: We make yoga and mindfulness fun for kids! It’s filled with games\, songs\, stories\, imaginative play and activities that engage children and give them the tools to feel calmer\, happier and more peaceful inside! \nFor pricing and registration\, download the Bē Health App. \n1. Download the app to register: https://www.sjchs.org/be-health-and-well-being/be-health-app
URL:https://heartwoodlife.com/event/childrens-yoga-31/
LOCATION:The Fitness Room at The Outfitters\, 35 Outfitters Park Drive\, Richmond Hill\, GA\, 31324\, United States
CATEGORIES:Bē Health,Fitness,Public Events
ATTACH;FMTTYPE=image/png:https://heartwoodlife.com/wp-content/uploads/2025/01/Yoga.png
ORGANIZER;CN="B%C4%93 Health %E2%80%A2 St. Joseph's / Candler":MAILTO:behealth@sjchs.org
END:VEVENT
BEGIN:VEVENT
DTSTART;TZID=America/New_York:20250807T080000
DTEND;TZID=America/New_York:20250807T090000
DTSTAMP:20260421T072053
CREATED:20250804T190120Z
LAST-MODIFIED:20250804T190120Z
UID:10000503-1754553600-1754557200@heartwoodlife.com
SUMMARY:Hike The Hill
DESCRIPTION:Be ready to move! The Be Health Navigator will incorporate stretching and other exercises into this 2 mile hike to the hill to enhance your overall physical\, emotional and social well-being. Designed for all fitness levels\, just meet the Be Health navigator at the Outfitters Building for this group activity on the St. Joseph’s/ Candler walking trail. \nFor pricing and registration\, download the Bē Health App. \n1. Download the app to register: https://www.sjchs.org/be-health-and-well-being/be-health-app
URL:https://heartwoodlife.com/event/hike-the-hill-36/
LOCATION:The Outfitters\, 35 Outfitters Park Drive\, Richmond Hill\, GA\, United States
CATEGORIES:Bē Health,Fitness,Public Events
ATTACH;FMTTYPE=image/png:https://heartwoodlife.com/wp-content/uploads/2025/01/Hike-the-Hill-cmyk.png
ORGANIZER;CN="B%C4%93 Health %E2%80%A2 St. Joseph's / Candler":MAILTO:behealth@sjchs.org
END:VEVENT
BEGIN:VEVENT
DTSTART;TZID=America/New_York:20250811T183000
DTEND;TZID=America/New_York:20250811T191500
DTSTAMP:20260421T072053
CREATED:20250731T140551Z
LAST-MODIFIED:20250811T150332Z
UID:10000500-1754937000-1754939700@heartwoodlife.com
SUMMARY:Flow Yoga
DESCRIPTION:POSTPONED. \nCalled “Flow” Yoga as the poses blend in practice\, a more dynamic style of class for students looking to grow their practice\, synchronized with breath\, creating your anchor as you move from pose to pose. Excellent for your health\, not only keeping you active\, but also reducing stress and building strength outward and inward. Mairi includes a Warm up\, Sun Salutations\, stretching and balancing as a part of every class. Inner reflection and relaxation are used to close class. \nFor pricing and registration\, download the Bē Health App. \n1. Download the app to register: https://www.sjchs.org/be-health-and-well-being/be-health-app \n 
URL:https://heartwoodlife.com/event/flow-yoga-41/
LOCATION:The Fitness Room at The Outfitters\, 35 Outfitters Park Drive\, Richmond Hill\, GA\, 31324\, United States
CATEGORIES:Bē Health,Fitness,Public Events
ATTACH;FMTTYPE=image/png:https://heartwoodlife.com/wp-content/uploads/2025/01/Yoga.png
ORGANIZER;CN="B%C4%93 Health %E2%80%A2 St. Joseph's / Candler":MAILTO:behealth@sjchs.org
END:VEVENT
BEGIN:VEVENT
DTSTART;TZID=America/New_York:20250813T123000
DTEND;TZID=America/New_York:20250813T131500
DTSTAMP:20260421T072053
CREATED:20250804T195455Z
LAST-MODIFIED:20250804T195455Z
UID:10000512-1755088200-1755090900@heartwoodlife.com
SUMMARY:Silver Sneakers Yoga
DESCRIPTION:Silver Sneakers Yoga: Silver Sneakers Yoga is great for a beginner or more experience exerciser interested in Yoga and flexibility training. You will move through seated and standing yoga poses that aim to increase flexibility\, balance and range of motion. Breathing exercises and relaxation is incorporated into every class to promote stress reduction. A chair is used to accommodate a variety of fitness and skill levels during this class.\n\nFor pricing and registration\, download the Bē Health App. \n1. Download the app to register: https://www.sjchs.org/be-health-and-well-being/be-health-app
URL:https://heartwoodlife.com/event/silver-sneakers-yoga-27/
LOCATION:St. Joseph’s/Candler Facility\, 3866 Belfast Keller Rd\, Richmond Hill\, GA\, 31324\, United States
CATEGORIES:Bē Health,Fitness,Public Events
ATTACH;FMTTYPE=image/png:https://heartwoodlife.com/wp-content/uploads/2025/01/Yoga.png
ORGANIZER;CN="B%C4%93 Health %E2%80%A2 St. Joseph's / Candler":MAILTO:behealth@sjchs.org
END:VEVENT
BEGIN:VEVENT
DTSTART;TZID=America/New_York:20250813T160000
DTEND;TZID=America/New_York:20250813T164500
DTSTAMP:20260421T072053
CREATED:20250804T190726Z
LAST-MODIFIED:20250804T190726Z
UID:10000508-1755100800-1755103500@heartwoodlife.com
SUMMARY:Children's Yoga
DESCRIPTION:Children’s Yoga: We make yoga and mindfulness fun for kids! It’s filled with games\, songs\, stories\, imaginative play and activities that engage children and give them the tools to feel calmer\, happier and more peaceful inside! \nFor pricing and registration\, download the Bē Health App. \n1. Download the app to register: https://www.sjchs.org/be-health-and-well-being/be-health-app
URL:https://heartwoodlife.com/event/childrens-yoga-32/
LOCATION:The Fitness Room at The Outfitters\, 35 Outfitters Park Drive\, Richmond Hill\, GA\, 31324\, United States
CATEGORIES:Bē Health,Fitness,Public Events
ATTACH;FMTTYPE=image/png:https://heartwoodlife.com/wp-content/uploads/2025/01/Yoga.png
ORGANIZER;CN="B%C4%93 Health %E2%80%A2 St. Joseph's / Candler":MAILTO:behealth@sjchs.org
END:VEVENT
BEGIN:VEVENT
DTSTART;TZID=America/New_York:20250814T080000
DTEND;TZID=America/New_York:20250814T090000
DTSTAMP:20260421T072054
CREATED:20250804T190153Z
LAST-MODIFIED:20250804T190153Z
UID:10000504-1755158400-1755162000@heartwoodlife.com
SUMMARY:Hike The Hill
DESCRIPTION:Be ready to move! The Be Health Navigator will incorporate stretching and other exercises into this 2 mile hike to the hill to enhance your overall physical\, emotional and social well-being. Designed for all fitness levels\, just meet the Be Health navigator at the Outfitters Building for this group activity on the St. Joseph’s/ Candler walking trail. \nFor pricing and registration\, download the Bē Health App. \n1. Download the app to register: https://www.sjchs.org/be-health-and-well-being/be-health-app
URL:https://heartwoodlife.com/event/hike-the-hill-37/
LOCATION:The Outfitters\, 35 Outfitters Park Drive\, Richmond Hill\, GA\, United States
CATEGORIES:Bē Health,Fitness,Public Events
ATTACH;FMTTYPE=image/png:https://heartwoodlife.com/wp-content/uploads/2025/01/Hike-the-Hill-cmyk.png
ORGANIZER;CN="B%C4%93 Health %E2%80%A2 St. Joseph's / Candler":MAILTO:behealth@sjchs.org
END:VEVENT
BEGIN:VEVENT
DTSTART;TZID=America/New_York:20250818T183000
DTEND;TZID=America/New_York:20250818T191500
DTSTAMP:20260421T072054
CREATED:20250731T140705Z
LAST-MODIFIED:20250811T144820Z
UID:10000501-1755541800-1755544500@heartwoodlife.com
SUMMARY:Flow Yoga
DESCRIPTION:POSTPONED. \nCalled “Flow” Yoga as the poses blend in practice\, a more dynamic style of class for students looking to grow their practice\, synchronized with breath\, creating your anchor as you move from pose to pose. Excellent for your health\, not only keeping you active\, but also reducing stress and building strength outward and inward. Mairi includes a Warm up\, Sun Salutations\, stretching and balancing as a part of every class. Inner reflection and relaxation are used to close class. \nFor pricing and registration\, download the Bē Health App. \n1. Download the app to register: https://www.sjchs.org/be-health-and-well-being/be-health-app \n 
URL:https://heartwoodlife.com/event/flow-yoga-42/
LOCATION:The Fitness Room at The Outfitters\, 35 Outfitters Park Drive\, Richmond Hill\, GA\, 31324\, United States
CATEGORIES:Bē Health,Fitness,Public Events
ATTACH;FMTTYPE=image/png:https://heartwoodlife.com/wp-content/uploads/2025/01/Yoga.png
ORGANIZER;CN="B%C4%93 Health %E2%80%A2 St. Joseph's / Candler":MAILTO:behealth@sjchs.org
END:VEVENT
BEGIN:VEVENT
DTSTART;TZID=America/New_York:20250820T123000
DTEND;TZID=America/New_York:20250820T131500
DTSTAMP:20260421T072054
CREATED:20250804T195742Z
LAST-MODIFIED:20250804T195742Z
UID:10000513-1755693000-1755695700@heartwoodlife.com
SUMMARY:Silver Sneakers Yoga
DESCRIPTION:Silver Sneakers Yoga: Silver Sneakers Yoga is great for a beginner or more experience exerciser interested in Yoga and flexibility training. You will move through seated and standing yoga poses that aim to increase flexibility\, balance and range of motion. Breathing exercises and relaxation is incorporated into every class to promote stress reduction. A chair is used to accommodate a variety of fitness and skill levels during this class.\n\nFor pricing and registration\, download the Bē Health App. \n1. Download the app to register: https://www.sjchs.org/be-health-and-well-being/be-health-app
URL:https://heartwoodlife.com/event/silver-sneakers-yoga-28/
LOCATION:St. Joseph’s/Candler Facility\, 3866 Belfast Keller Rd\, Richmond Hill\, GA\, 31324\, United States
CATEGORIES:Bē Health,Fitness,Public Events
ATTACH;FMTTYPE=image/png:https://heartwoodlife.com/wp-content/uploads/2025/01/Yoga.png
ORGANIZER;CN="B%C4%93 Health %E2%80%A2 St. Joseph's / Candler":MAILTO:behealth@sjchs.org
END:VEVENT
BEGIN:VEVENT
DTSTART;TZID=America/New_York:20250820T160000
DTEND;TZID=America/New_York:20250820T164500
DTSTAMP:20260421T072054
CREATED:20250804T190843Z
LAST-MODIFIED:20250804T190843Z
UID:10000509-1755705600-1755708300@heartwoodlife.com
SUMMARY:Children's Yoga
DESCRIPTION:Children’s Yoga: We make yoga and mindfulness fun for kids! It’s filled with games\, songs\, stories\, imaginative play and activities that engage children and give them the tools to feel calmer\, happier and more peaceful inside! \nFor pricing and registration\, download the Bē Health App. \n1. Download the app to register: https://www.sjchs.org/be-health-and-well-being/be-health-app
URL:https://heartwoodlife.com/event/childrens-yoga-33/
LOCATION:The Fitness Room at The Outfitters\, 35 Outfitters Park Drive\, Richmond Hill\, GA\, 31324\, United States
CATEGORIES:Bē Health,Fitness,Public Events
ATTACH;FMTTYPE=image/png:https://heartwoodlife.com/wp-content/uploads/2025/01/Yoga.png
ORGANIZER;CN="B%C4%93 Health %E2%80%A2 St. Joseph's / Candler":MAILTO:behealth@sjchs.org
END:VEVENT
BEGIN:VEVENT
DTSTART;TZID=America/New_York:20250821T080000
DTEND;TZID=America/New_York:20250821T090000
DTSTAMP:20260421T072054
CREATED:20250804T190218Z
LAST-MODIFIED:20250804T190218Z
UID:10000505-1755763200-1755766800@heartwoodlife.com
SUMMARY:Hike The Hill
DESCRIPTION:Be ready to move! The Be Health Navigator will incorporate stretching and other exercises into this 2 mile hike to the hill to enhance your overall physical\, emotional and social well-being. Designed for all fitness levels\, just meet the Be Health navigator at the Outfitters Building for this group activity on the St. Joseph’s/ Candler walking trail. \nFor pricing and registration\, download the Bē Health App. \n1. Download the app to register: https://www.sjchs.org/be-health-and-well-being/be-health-app
URL:https://heartwoodlife.com/event/hike-the-hill-38/
LOCATION:The Outfitters\, 35 Outfitters Park Drive\, Richmond Hill\, GA\, United States
CATEGORIES:Bē Health,Fitness,Public Events
ATTACH;FMTTYPE=image/png:https://heartwoodlife.com/wp-content/uploads/2025/01/Hike-the-Hill-cmyk.png
ORGANIZER;CN="B%C4%93 Health %E2%80%A2 St. Joseph's / Candler":MAILTO:behealth@sjchs.org
END:VEVENT
BEGIN:VEVENT
DTSTART;TZID=America/New_York:20250825T183000
DTEND;TZID=America/New_York:20250825T191500
DTSTAMP:20260421T072054
CREATED:20250731T140802Z
LAST-MODIFIED:20250811T144433Z
UID:10000502-1756146600-1756149300@heartwoodlife.com
SUMMARY:Flow Yoga
DESCRIPTION:POSTPONED. \nCalled “Flow” Yoga as the poses blend in practice\, a more dynamic style of class for students looking to grow their practice\, synchronized with breath\, creating your anchor as you move from pose to pose. Excellent for your health\, not only keeping you active\, but also reducing stress and building strength outward and inward. Mairi includes a Warm up\, Sun Salutations\, stretching and balancing as a part of every class. Inner reflection and relaxation are used to close class. \nFor pricing and registration\, download the Bē Health App. \n1. Download the app to register: https://www.sjchs.org/be-health-and-well-being/be-health-app \n 
URL:https://heartwoodlife.com/event/flow-yoga-43/
LOCATION:The Fitness Room at The Outfitters\, 35 Outfitters Park Drive\, Richmond Hill\, GA\, 31324\, United States
CATEGORIES:Bē Health,Fitness,Public Events
ATTACH;FMTTYPE=image/png:https://heartwoodlife.com/wp-content/uploads/2025/01/Yoga.png
ORGANIZER;CN="B%C4%93 Health %E2%80%A2 St. Joseph's / Candler":MAILTO:behealth@sjchs.org
END:VEVENT
BEGIN:VEVENT
DTSTART;TZID=America/New_York:20250827T123000
DTEND;TZID=America/New_York:20250827T131500
DTSTAMP:20260421T072054
CREATED:20250805T145505Z
LAST-MODIFIED:20250805T145505Z
UID:10000514-1756297800-1756300500@heartwoodlife.com
SUMMARY:Silver Sneakers Yoga
DESCRIPTION:Silver Sneakers Yoga: Silver Sneakers Yoga is great for a beginner or more experience exerciser interested in Yoga and flexibility training. You will move through seated and standing yoga poses that aim to increase flexibility\, balance and range of motion. Breathing exercises and relaxation is incorporated into every class to promote stress reduction. A chair is used to accommodate a variety of fitness and skill levels during this class.\n\nFor pricing and registration\, download the Bē Health App. \n1. Download the app to register: https://www.sjchs.org/be-health-and-well-being/be-health-app
URL:https://heartwoodlife.com/event/silver-sneakers-yoga-29/
LOCATION:St. Joseph’s/Candler Facility\, 3866 Belfast Keller Rd\, Richmond Hill\, GA\, 31324\, United States
CATEGORIES:Bē Health,Fitness,Public Events
ATTACH;FMTTYPE=image/png:https://heartwoodlife.com/wp-content/uploads/2025/01/Yoga.png
ORGANIZER;CN="B%C4%93 Health %E2%80%A2 St. Joseph's / Candler":MAILTO:behealth@sjchs.org
END:VEVENT
BEGIN:VEVENT
DTSTART;TZID=America/New_York:20250827T160000
DTEND;TZID=America/New_York:20250827T164500
DTSTAMP:20260421T072054
CREATED:20250804T193612Z
LAST-MODIFIED:20250804T193612Z
UID:10000510-1756310400-1756313100@heartwoodlife.com
SUMMARY:Children's Yoga
DESCRIPTION:Children’s Yoga: We make yoga and mindfulness fun for kids! It’s filled with games\, songs\, stories\, imaginative play and activities that engage children and give them the tools to feel calmer\, happier and more peaceful inside! \nFor pricing and registration\, download the Bē Health App. \n1. Download the app to register: https://www.sjchs.org/be-health-and-well-being/be-health-app
URL:https://heartwoodlife.com/event/childrens-yoga-34/
LOCATION:The Fitness Room at The Outfitters\, 35 Outfitters Park Drive\, Richmond Hill\, GA\, 31324\, United States
CATEGORIES:Bē Health,Fitness,Public Events
ATTACH;FMTTYPE=image/png:https://heartwoodlife.com/wp-content/uploads/2025/01/Yoga.png
ORGANIZER;CN="B%C4%93 Health %E2%80%A2 St. Joseph's / Candler":MAILTO:behealth@sjchs.org
END:VEVENT
BEGIN:VEVENT
DTSTART;TZID=America/New_York:20250828T080000
DTEND;TZID=America/New_York:20250828T090000
DTSTAMP:20260421T072054
CREATED:20250804T190244Z
LAST-MODIFIED:20250804T190244Z
UID:10000506-1756368000-1756371600@heartwoodlife.com
SUMMARY:Hike The Hill
DESCRIPTION:Be ready to move! The Be Health Navigator will incorporate stretching and other exercises into this 2 mile hike to the hill to enhance your overall physical\, emotional and social well-being. Designed for all fitness levels\, just meet the Be Health navigator at the Outfitters Building for this group activity on the St. Joseph’s/ Candler walking trail. \nFor pricing and registration\, download the Bē Health App. \n1. Download the app to register: https://www.sjchs.org/be-health-and-well-being/be-health-app
URL:https://heartwoodlife.com/event/hike-the-hill-39/
LOCATION:The Outfitters\, 35 Outfitters Park Drive\, Richmond Hill\, GA\, United States
CATEGORIES:Bē Health,Fitness,Public Events
ATTACH;FMTTYPE=image/png:https://heartwoodlife.com/wp-content/uploads/2025/01/Hike-the-Hill-cmyk.png
ORGANIZER;CN="B%C4%93 Health %E2%80%A2 St. Joseph's / Candler":MAILTO:behealth@sjchs.org
END:VEVENT
END:VCALENDAR