BEGIN:VCALENDAR
VERSION:2.0
PRODID:-//Heartwood Life - ECPv6.15.20//NONSGML v1.0//EN
CALSCALE:GREGORIAN
METHOD:PUBLISH
X-WR-CALNAME:Heartwood Life
X-ORIGINAL-URL:https://heartwoodlife.com
X-WR-CALDESC:Events for Heartwood Life
REFRESH-INTERVAL;VALUE=DURATION:PT1H
X-Robots-Tag:noindex
X-PUBLISHED-TTL:PT1H
BEGIN:VTIMEZONE
TZID:America/New_York
BEGIN:DAYLIGHT
TZOFFSETFROM:-0500
TZOFFSETTO:-0400
TZNAME:EDT
DTSTART:20250309T070000
END:DAYLIGHT
BEGIN:STANDARD
TZOFFSETFROM:-0400
TZOFFSETTO:-0500
TZNAME:EST
DTSTART:20251102T060000
END:STANDARD
BEGIN:DAYLIGHT
TZOFFSETFROM:-0500
TZOFFSETTO:-0400
TZNAME:EDT
DTSTART:20260308T070000
END:DAYLIGHT
BEGIN:STANDARD
TZOFFSETFROM:-0400
TZOFFSETTO:-0500
TZNAME:EST
DTSTART:20261101T060000
END:STANDARD
BEGIN:DAYLIGHT
TZOFFSETFROM:-0500
TZOFFSETTO:-0400
TZNAME:EDT
DTSTART:20270314T070000
END:DAYLIGHT
BEGIN:STANDARD
TZOFFSETFROM:-0400
TZOFFSETTO:-0500
TZNAME:EST
DTSTART:20271107T060000
END:STANDARD
END:VTIMEZONE
BEGIN:VEVENT
DTSTART;TZID=America/New_York:20260422T130000
DTEND;TZID=America/New_York:20260422T134500
DTSTAMP:20260422T033942
CREATED:20260323T182333Z
LAST-MODIFIED:20260323T182333Z
UID:10001196-1776862800-1776865500@heartwoodlife.com
SUMMARY:Silver Sneakers Yoga
DESCRIPTION:Silver Sneakers Yoga: Silver Sneakers Yoga is great for a beginner or more experience exerciser interested in Yoga and flexibility training. You will move through seated and standing yoga poses that aim to increase flexibility\, balance and range of motion. Breathing exercises and relaxation is incorporated into every class to promote stress reduction. A chair is used to accommodate a variety of fitness and skill levels during this class.\n\nFor pricing and registration\, download the Bē Health App. \n1. Download the app to register: https://www.sjchs.org/be-health-and-well-being/be-health-app
URL:https://heartwoodlife.com/event/silver-sneakers-yoga-46/2026-04-22/
LOCATION:St. Joseph’s/Candler Facility\, 3866 Belfast Keller Rd\, Richmond Hill\, GA\, 31324\, United States
CATEGORIES:Bē Health,Fitness,Public Events
ATTACH;FMTTYPE=image/png:https://heartwoodlife.com/wp-content/uploads/2025/01/Yoga.png
ORGANIZER;CN="B%C4%93 Health %E2%80%A2 St. Joseph's / Candler":MAILTO:behealth@sjchs.org
END:VEVENT
BEGIN:VEVENT
DTSTART;TZID=America/New_York:20260422T170000
DTEND;TZID=America/New_York:20260422T180000
DTSTAMP:20260422T033942
CREATED:20260416T180829Z
LAST-MODIFIED:20260416T182822Z
UID:10001238-1776877200-1776880800@heartwoodlife.com
SUMMARY:🌿 Plants & Pours: An Earth Day Resident Social
DESCRIPTION:Celebrate Earth Day with us! \nPlants & Pours is an all-ages Heartwood Resident Exclusive social designed to bring neighbors together for a fun\, eco-friendly afternoon. Whether you’re looking to unwind with a drink or want to help your kids start their first garden\, there’s something for everyone. \nWhat’s in Store:\n\nThe Green Thumb Giveaway: \nBe early! The first 50 residents in attendance will receive a free plant to take home.\n\nSip & Socialize:We’ll be providing complimentary beverage service for you to enjoy while you mingle – served by Bleu Coat Kitchen. We will have refreshments available for both adults and children (available while supplies last\, must be 21+ to consume alcohol).\n\nFamily-Friendly Fun:Bring the whole family! We’ll have special earth-themed activities\, sweet treats\, and take home goody bags.\n\nDetails at a Glace: When: Wednesday\, April 22nd **EARTH DAY** Location: The Outfitters\n\nWe look forward to seeing you there!
URL:https://heartwoodlife.com/event/%f0%9f%8c%bf-plants-pours-an-earth-day-resident-social/
LOCATION:The Outfitters\, 35 Outfitters Park Drive\, Richmond Hill\, GA\, United States
CATEGORIES:Heartwood POA Lifestyle Events
ATTACH;FMTTYPE=image/png:https://heartwoodlife.com/wp-content/uploads/2026/04/Plants-1920-x-1080-px-1.png
ORGANIZER;CN="Heartwood":MAILTO:kayla.chambers@fsresidential.com
END:VEVENT
END:VCALENDAR