BEGIN:VCALENDAR
VERSION:2.0
PRODID:-//Heartwood Life - ECPv6.15.20//NONSGML v1.0//EN
CALSCALE:GREGORIAN
METHOD:PUBLISH
X-WR-CALNAME:Heartwood Life
X-ORIGINAL-URL:https://heartwoodlife.com
X-WR-CALDESC:Events for Heartwood Life
REFRESH-INTERVAL;VALUE=DURATION:PT1H
X-Robots-Tag:noindex
X-PUBLISHED-TTL:PT1H
BEGIN:VTIMEZONE
TZID:America/New_York
BEGIN:DAYLIGHT
TZOFFSETFROM:-0500
TZOFFSETTO:-0400
TZNAME:EDT
DTSTART:20240310T070000
END:DAYLIGHT
BEGIN:STANDARD
TZOFFSETFROM:-0400
TZOFFSETTO:-0500
TZNAME:EST
DTSTART:20241103T060000
END:STANDARD
BEGIN:DAYLIGHT
TZOFFSETFROM:-0500
TZOFFSETTO:-0400
TZNAME:EDT
DTSTART:20250309T070000
END:DAYLIGHT
BEGIN:STANDARD
TZOFFSETFROM:-0400
TZOFFSETTO:-0500
TZNAME:EST
DTSTART:20251102T060000
END:STANDARD
BEGIN:DAYLIGHT
TZOFFSETFROM:-0500
TZOFFSETTO:-0400
TZNAME:EDT
DTSTART:20260308T070000
END:DAYLIGHT
BEGIN:STANDARD
TZOFFSETFROM:-0400
TZOFFSETTO:-0500
TZNAME:EST
DTSTART:20261101T060000
END:STANDARD
END:VTIMEZONE
BEGIN:VEVENT
DTSTART;TZID=America/New_York:20250226T100000
DTEND;TZID=America/New_York:20250226T104500
DTSTAMP:20260421T154203
CREATED:20250121T190720Z
LAST-MODIFIED:20250121T201902Z
UID:10000353-1740564000-1740566700@heartwoodlife.com
SUMMARY:Children's Yoga
DESCRIPTION:Children’s Yoga: We make yoga and mindfulness fun for kids! It’s filled with games\, songs\, stories\, imaginative play and activities that engage children and give them the tools to feel calmer\, happier and more peaceful inside! Offered every Friday at 10 a.m. at the SJ/C Heartwood Campus. \nFor pricing and registration\, download the Bē Health App. \n1. Download the app to register: https://www.sjchs.org/be-health-and-well-being/be-health-app
URL:https://heartwoodlife.com/event/childrens-yoga-12/
LOCATION:St. Joseph’s/Candler Facility\, 3866 Belfast Keller Rd\, Richmond Hill\, GA\, 31324\, United States
CATEGORIES:Bē Health,Fitness
ATTACH;FMTTYPE=image/png:https://heartwoodlife.com/wp-content/uploads/2025/01/Yoga.png
ORGANIZER;CN="B%C4%93 Health %E2%80%A2 St. Joseph's / Candler":MAILTO:behealth@sjchs.org
END:VEVENT
BEGIN:VEVENT
DTSTART;TZID=America/New_York:20250226T120000
DTEND;TZID=America/New_York:20250226T124500
DTSTAMP:20260421T154203
CREATED:20250121T190801Z
LAST-MODIFIED:20250121T190801Z
UID:10000354-1740571200-1740573900@heartwoodlife.com
SUMMARY:Silver Sneakers Yoga
DESCRIPTION:Silver Sneakers Yoga: Silver Sneakers Yoga is great for a beginner or more experience exerciser interested in Yoga and flexibility training. You will move through seated and standing yoga poses that aim to increase flexibility\, balance and range of motion. Breathing exercises and relaxation is incorporated into every class to promote stress reduction. A chair is used to accommodate a variety of fitness and skill levels during this class. Offered every Friday at noon at the SJ/C Heartwood Campus.\n\nFor pricing and registration\, download the Bē Health App. \n1. Download the app to register: https://www.sjchs.org/be-health-and-well-being/be-health-app
URL:https://heartwoodlife.com/event/silver-sneakers-yoga-7/
LOCATION:St. Joseph’s/Candler Facility\, 3866 Belfast Keller Rd\, Richmond Hill\, GA\, 31324\, United States
CATEGORIES:Bē Health,Fitness
ATTACH;FMTTYPE=image/png:https://heartwoodlife.com/wp-content/uploads/2025/01/Yoga.png
ORGANIZER;CN="B%C4%93 Health %E2%80%A2 St. Joseph's / Candler":MAILTO:behealth@sjchs.org
END:VEVENT
END:VCALENDAR