BEGIN:VCALENDAR
VERSION:2.0
PRODID:-//Heartwood Life - ECPv6.15.20//NONSGML v1.0//EN
CALSCALE:GREGORIAN
METHOD:PUBLISH
X-WR-CALNAME:Heartwood Life
X-ORIGINAL-URL:https://heartwoodlife.com
X-WR-CALDESC:Events for Heartwood Life
REFRESH-INTERVAL;VALUE=DURATION:PT1H
X-Robots-Tag:noindex
X-PUBLISHED-TTL:PT1H
BEGIN:VTIMEZONE
TZID:America/New_York
BEGIN:DAYLIGHT
TZOFFSETFROM:-0500
TZOFFSETTO:-0400
TZNAME:EDT
DTSTART:20240310T070000
END:DAYLIGHT
BEGIN:STANDARD
TZOFFSETFROM:-0400
TZOFFSETTO:-0500
TZNAME:EST
DTSTART:20241103T060000
END:STANDARD
BEGIN:DAYLIGHT
TZOFFSETFROM:-0500
TZOFFSETTO:-0400
TZNAME:EDT
DTSTART:20250309T070000
END:DAYLIGHT
BEGIN:STANDARD
TZOFFSETFROM:-0400
TZOFFSETTO:-0500
TZNAME:EST
DTSTART:20251102T060000
END:STANDARD
BEGIN:DAYLIGHT
TZOFFSETFROM:-0500
TZOFFSETTO:-0400
TZNAME:EDT
DTSTART:20260308T070000
END:DAYLIGHT
BEGIN:STANDARD
TZOFFSETFROM:-0400
TZOFFSETTO:-0500
TZNAME:EST
DTSTART:20261101T060000
END:STANDARD
END:VTIMEZONE
BEGIN:VEVENT
DTSTART;TZID=America/New_York:20250218T083000
DTEND;TZID=America/New_York:20250218T160000
DTSTAMP:20260421T154204
CREATED:20250114T171722Z
LAST-MODIFIED:20250126T165931Z
UID:10000341-1739867400-1739894400@heartwoodlife.com
SUMMARY:Bē Health Kid’s Camp
DESCRIPTION:Be Health is offering a very unique\, fun\, and engaging summer camp experience.\nThe aim of our daily activities is to help children\, ages 5-12\, gain a better understanding of health and wellbeing through group Fitness\, Mindfulness and Nutrition FUN (Fitness – Understanding-Nutrition). Children will participate in Kid’s Yoga\, Mindfulness Activities & Trail walks\, Kid’s POUND\, and other Holiday related activities\, including a nutritional section in preparation of an afternoon snack. \n The camps will be staffed by Dieticians\, Certified Fitness Trainers and Health Educators.  \nThe daily cost is $35 per day/ per child. Drop off is between 8:30 and 9 a.m. at The Outfitters at Heartwood (35 Outfitters Park Drive\, Richmond Hill\, GA 31324) with pick up no later than 4 p.m. All campers should wear athletic shoes for both indoor and outdoor activities\, bring bug spray\, wear loose fitting/ comfortable clothing and pack a healthy lunch with a water bottle. \n Register through the Bē Health App: www.sjchs.org/be-health-app \n If you have questions or need assistance signing up\, please email the Bē Health navigator at behealth@sjchs.org  or via phone @ 912-675-0524.
URL:https://heartwoodlife.com/event/be-health-kids-camp-20/
LOCATION:The Outfitters\, 35 Outfitters Park Drive\, Richmond Hill\, GA\, United States
CATEGORIES:Bē Health,Fitness,Public Events
ATTACH;FMTTYPE=image/png:https://heartwoodlife.com/wp-content/uploads/2025/01/SJC_BEHeatlh_horiz.png
ORGANIZER;CN="B%C4%93 Health %E2%80%A2 St. Joseph's / Candler":MAILTO:behealth@sjchs.org
END:VEVENT
END:VCALENDAR