BEGIN:VCALENDAR
VERSION:2.0
PRODID:-//Heartwood Life - ECPv6.15.20//NONSGML v1.0//EN
CALSCALE:GREGORIAN
METHOD:PUBLISH
X-WR-CALNAME:Heartwood Life
X-ORIGINAL-URL:https://heartwoodlife.com
X-WR-CALDESC:Events for Heartwood Life
REFRESH-INTERVAL;VALUE=DURATION:PT1H
X-Robots-Tag:noindex
X-PUBLISHED-TTL:PT1H
BEGIN:VTIMEZONE
TZID:America/New_York
BEGIN:DAYLIGHT
TZOFFSETFROM:-0500
TZOFFSETTO:-0400
TZNAME:EDT
DTSTART:20240310T070000
END:DAYLIGHT
BEGIN:STANDARD
TZOFFSETFROM:-0400
TZOFFSETTO:-0500
TZNAME:EST
DTSTART:20241103T060000
END:STANDARD
BEGIN:DAYLIGHT
TZOFFSETFROM:-0500
TZOFFSETTO:-0400
TZNAME:EDT
DTSTART:20250309T070000
END:DAYLIGHT
BEGIN:STANDARD
TZOFFSETFROM:-0400
TZOFFSETTO:-0500
TZNAME:EST
DTSTART:20251102T060000
END:STANDARD
BEGIN:DAYLIGHT
TZOFFSETFROM:-0500
TZOFFSETTO:-0400
TZNAME:EDT
DTSTART:20260308T070000
END:DAYLIGHT
BEGIN:STANDARD
TZOFFSETFROM:-0400
TZOFFSETTO:-0500
TZNAME:EST
DTSTART:20261101T060000
END:STANDARD
END:VTIMEZONE
BEGIN:VEVENT
DTSTART;TZID=America/New_York:20250213T120000
DTEND;TZID=America/New_York:20250213T133000
DTSTAMP:20260421T154201
CREATED:20250121T191108Z
LAST-MODIFIED:20250121T191108Z
UID:10000356-1739448000-1739453400@heartwoodlife.com
SUMMARY:Hike The Hill
DESCRIPTION:Be ready to move! The Be Health Navigator will incorporate stretching and other exercises into this 2 mile hike to the hill to enhance your overall physical\, emotional and social well-being. Designed for all fitness levels\, just meet the Be Health navigator at the Outfitters Building for this group activity on the St. Joseph’s/ Candler walking trail. \nFor pricing and registration\, download the Bē Health App. \n1. Download the app to register: https://www.sjchs.org/be-health-and-well-being/be-health-app
URL:https://heartwoodlife.com/event/hike-the-hill-15/
LOCATION:The Outfitters\, 35 Outfitters Park Drive\, Richmond Hill\, GA\, United States
CATEGORIES:Bē Health,Fitness,Public Events
ATTACH;FMTTYPE=image/png:https://heartwoodlife.com/wp-content/uploads/2025/01/Hike-the-Hill-cmyk.png
ORGANIZER;CN="B%C4%93 Health %E2%80%A2 St. Joseph's / Candler":MAILTO:behealth@sjchs.org
END:VEVENT
BEGIN:VEVENT
DTSTART;TZID=America/New_York:20250213T173000
DTEND;TZID=America/New_York:20250213T193000
DTSTAMP:20260421T154202
CREATED:20250203T222927Z
LAST-MODIFIED:20250203T222928Z
UID:10000359-1739467800-1739475000@heartwoodlife.com
SUMMARY:Valentine' Day Wine and Chocolate Pairing
DESCRIPTION:Join us for a sweet and sophisticated evening this Valentine’s Day! Indulge in an exquisite pairing of fine wines and decadent chocolates\, expertly curated to complement each other perfectly + Charcuterie Board. Catered by Bleu Coat Kitchen. Whether you’re celebrating with a loved one\, your best friends\, or treating yourself\, this event is the perfect way to savor the romance of the season. \nREGISTER NOW – spots are limited! \nRegistration: https://forms.gle/g5D42WnzTuHsgofdA \n Date: Wednesday\, February 13\, 2025\n Time: 5:30-7:30pm\n Location: The Outfitters at Heartwood\n Tickets: $30 per person\, pay via Venmo
URL:https://heartwoodlife.com/event/valentine-day-wine-and-chocolate-pairing/
LOCATION:The Outfitters\, 35 Outfitters Park Drive\, Richmond Hill\, GA\, United States
CATEGORIES:Heartwood POA Lifestyle Events,Public Events
ORGANIZER;CN="Heartwood":MAILTO:kayla.chambers@fsresidential.com
END:VEVENT
END:VCALENDAR