BEGIN:VCALENDAR
VERSION:2.0
PRODID:-//Heartwood Life - ECPv6.15.20//NONSGML v1.0//EN
CALSCALE:GREGORIAN
METHOD:PUBLISH
X-WR-CALNAME:Heartwood Life
X-ORIGINAL-URL:https://heartwoodlife.com
X-WR-CALDESC:Events for Heartwood Life
REFRESH-INTERVAL;VALUE=DURATION:PT1H
X-Robots-Tag:noindex
X-PUBLISHED-TTL:PT1H
BEGIN:VTIMEZONE
TZID:America/New_York
BEGIN:DAYLIGHT
TZOFFSETFROM:-0500
TZOFFSETTO:-0400
TZNAME:EDT
DTSTART:20230312T070000
END:DAYLIGHT
BEGIN:STANDARD
TZOFFSETFROM:-0400
TZOFFSETTO:-0500
TZNAME:EST
DTSTART:20231105T060000
END:STANDARD
BEGIN:DAYLIGHT
TZOFFSETFROM:-0500
TZOFFSETTO:-0400
TZNAME:EDT
DTSTART:20240310T070000
END:DAYLIGHT
BEGIN:STANDARD
TZOFFSETFROM:-0400
TZOFFSETTO:-0500
TZNAME:EST
DTSTART:20241103T060000
END:STANDARD
BEGIN:DAYLIGHT
TZOFFSETFROM:-0500
TZOFFSETTO:-0400
TZNAME:EDT
DTSTART:20250309T070000
END:DAYLIGHT
BEGIN:STANDARD
TZOFFSETFROM:-0400
TZOFFSETTO:-0500
TZNAME:EST
DTSTART:20251102T060000
END:STANDARD
END:VTIMEZONE
BEGIN:VEVENT
DTSTART;TZID=America/New_York:20241206T173000
DTEND;TZID=America/New_York:20241206T193000
DTSTAMP:20260421T123848
CREATED:20240919T204111Z
LAST-MODIFIED:20241219T165551Z
UID:10000322-1733506200-1733513400@heartwoodlife.com
SUMMARY:Live After Five
DESCRIPTION:Live After Five at The Outfitters from 5:30pm-7:30pm. \nBleu Coat Kitchen open from 5pm-8pm.
URL:https://heartwoodlife.com/event/live-after-five-11/
LOCATION:The Outfitters\, 35 Outfitters Park Drive\, Richmond Hill\, GA\, United States
CATEGORIES:Public Events
END:VEVENT
BEGIN:VEVENT
DTSTART;TZID=America/New_York:20241206T183000
DTEND;TZID=America/New_York:20241206T190000
DTSTAMP:20260421T123848
CREATED:20241123T192318Z
LAST-MODIFIED:20241123T192318Z
UID:10000324-1733509800-1733511600@heartwoodlife.com
SUMMARY:Christmas Tree Lighting
DESCRIPTION:We are thrilled to kick off the Christmas Season here at Heartwood with our Inaugural Christmas Tree Lighting! \nSee details below.
URL:https://heartwoodlife.com/event/christmas-tree-lighting/
LOCATION:The Outfitters\, 35 Outfitters Park Drive\, Richmond Hill\, GA\, United States
CATEGORIES:Public Events
ATTACH;FMTTYPE=image/png:https://heartwoodlife.com/wp-content/uploads/2024/11/Heartwood-Tree-Lighting.png
END:VEVENT
END:VCALENDAR